BEGIN:VCALENDAR
VERSION:2.0
PRODID:-//ChamberMaster//Event Calendar 2.0//EN
METHOD:PUBLISH
X-PUBLISHED-TTL:P3D
REFRESH-INTERVAL:P3D
CALSCALE:GREGORIAN
BEGIN:VEVENT
DTSTART:20231018T203000Z
DTEND:20231018T223000Z
X-MICROSOFT-CDO-ALLDAYEVENT:FALSE
SUMMARY:October 2023 Business After Hours at Bethany Brewing
DESCRIPTION:Join the Bethany-Fenwick Area Chamber of Commerce on Wednesday\, October 18th\, at Bethany Brewing for the October 2023 Business After Hours event!  The Chamber Business After Hours is a fantastic way to promote your business through networking with fellow Chamber members. Don't forget to bring your business cards with you and for a little extra exposure bring a door prize too. \n\n\n\nREFRESHMENTS\n\nBethany Brewing will be selling discounted drinks and Big Fish Grill - Ocean View will be providing food for the event!  \n\n\n\nPUMPKIN CARVING CONTEST\n\nBring a carved pumpkin to the event for a chance to win the October Business After Hours Pumpkin Carving Contest!  \n\n\n\nMEMBER SPOTLIGHTS\n\nTrendy Shore Boutique and Alni Body Care will be the featured spotlight tables at the event!\n\n\n\nAs a courtesy to our host\, RSVP is highly encouraged.\n\n\n\nInterested in hosting a networking event\, or learning how you can become a member spotlight at future Business After Hours? \n\nContact membership@thequietresorts.com or 302-539-2100.
X-ALT-DESC;FMTTYPE=text/html:<span style="font-family: arial\, sans-serif\;">Join the Bethany-Fenwick Area Chamber of Commerce on Wednesday\, October 18th\, at Bethany Brewing for the October 2023 Business After Hours event!&nbsp\;&nbsp\;</span><span style="font-family: arial\, sans-serif\;">The Chamber Business After Hours is a fantastic way to promote your business through networking with fellow Chamber members. Don&rsquo\;t forget to bring your business cards with you and for a little extra exposure bring a door prize too.&nbsp\;</span><br style="font-family: arial\, sans-serif\; font-size: 14px\;" />\n<br />\n<span style="font-family: arial\, sans-serif\;"><u><strong>REFRESHMENTS</strong></u><br />\nBethany Brewing will be selling discounted drinks and Big Fish Grill - Ocean View&nbsp\;will be providing food for the event!&nbsp\;&nbsp\;</span><br />\n<br />\n<u><b>PUMPKIN CARVING CONTEST</b></u><br />\nBring a carved pumpkin to the event for a chance to win the October Business After Hours Pumpkin Carving Contest!&nbsp\;&nbsp\;<br />\n<br />\n<strong><u>MEMBER SPOTLIGHTS</u></strong><br />\nTrendy Shore Boutique and Alni Body Care will be the featured spotlight tables at the event!<br />\n<br />\n<span style="font-family: arial\, sans-serif\; font-size: 10.5pt\;">As a courtesy to our host\, RSVP is highly encouraged.</span><br />\n<br />\n<strong><span style="font-family: arial\, sans-serif\;"><span style="font-size: 10.5pt\;">Interested in hosting a networking event\, or learning how you can become a member spotlight at future Business After Hours?&nbsp\;</span></span></strong><br />\n<span style="font-family: arial\, sans-serif\;"><span style="font-size: 10.5pt\;">Contact membership@thequietresorts.com or 302-539-2100.</span></span>
LOCATION:Bethany Brewing 38450 Hickman Rd. Ocean View DE 19970
UID:e.2126.26907
SEQUENCE:3
DTSTAMP:20260420T182937Z
URL:http://business.thequietresorts.com/events/details/october-2023-business-after-hours-at-bethany-brewing-26907
END:VEVENT

END:VCALENDAR
