BEGIN:VCALENDAR
VERSION:2.0
PRODID:-//ChamberMaster//Event Calendar 2.0//EN
METHOD:PUBLISH
X-PUBLISHED-TTL:P3D
REFRESH-INTERVAL:P3D
CALSCALE:GREGORIAN
BEGIN:VEVENT
DTSTART:20230411T140000Z
DTEND:20230411T213000Z
X-MICROSOFT-CDO-ALLDAYEVENT:FALSE
SUMMARY:Ocean View Jewelers Buying Event
DESCRIPTION:Sell your mementos\, keep the memories!  Ocean View Jeweler's spirng buying event is April 11th - 13th from 10:00am - 5:30pm.  Receive immediate payment for your items!
X-ALT-DESC;FMTTYPE=text/html:Sell your mementos\, keep the memories!&nbsp\; Ocean View Jeweler&#39\;s spirng buying event is April 11th - 13th from 10:00am - 5:30pm.&nbsp\; Receive immediate payment for your items!
LOCATION:Ocean View Jewelers 35785 Atlantic Ave.\, Millville\, DE 19967 Call for directions: 302-537-1121
UID:e.2126.25320
SEQUENCE:3
DTSTAMP:20260421T041239Z
URL:http://business.thequietresorts.com/events/details/ocean-view-jewelers-buying-event-25320
END:VEVENT

END:VCALENDAR
