BEGIN:VCALENDAR
VERSION:2.0
PRODID:-//ChamberMaster//Event Calendar 2.0//EN
METHOD:PUBLISH
X-PUBLISHED-TTL:P3D
REFRESH-INTERVAL:P3D
CALSCALE:GREGORIAN
BEGIN:VEVENT
DTSTART:20211127T190000Z
DTEND:20211127T194000Z
X-MICROSOFT-CDO-ALLDAYEVENT:FALSE
SUMMARY:Ocean View Historical Society Ribbon Cutting
DESCRIPTION:Join us at Ocean View Historical Society as they celebrate their new location and Ribbon Cutting on Saturday\, November 27\, 2021 at 2:00 pm!\n\n \n\nHoliday Market\, Food Vendors\, & much more!
X-ALT-DESC;FMTTYPE=text/html:<span style="color: rgb(51\, 51\, 51)\; font-family: sans-serif\, Arial\, Verdana\, &quot\;Trebuchet MS&quot\;\; font-size: 13px\; background-color: rgb(255\, 255\, 255)\;">Join us at Ocean View Historical Society as they celebrate their new location and Ribbon Cutting on Saturday\, November 27\, 2021 at 2:00 pm!</span><br style="color: rgb(51\, 51\, 51)\; font-family: sans-serif\, Arial\, Verdana\, &quot\;Trebuchet MS&quot\;\; font-size: 13px\;" />\n<span style="color: rgb(51\, 51\, 51)\; font-family: sans-serif\, Arial\, Verdana\, &quot\;Trebuchet MS&quot\;\; font-size: 13px\; background-color: rgb(255\, 255\, 255)\;">&nbsp\;<br />\nHoliday Market\, Food Vendors\, &amp\; much more!</span>
LOCATION:39 Central Ave. Ocean View\, DE 19970
UID:e.2126.23092
SEQUENCE:3
DTSTAMP:20260424T102543Z
URL:http://business.thequietresorts.com/events/details/ocean-view-historical-society-ribbon-cutting-23092
END:VEVENT

END:VCALENDAR
