BEGIN:VCALENDAR
VERSION:2.0
PRODID:-//ChamberMaster//Event Calendar 2.0//EN
METHOD:PUBLISH
X-PUBLISHED-TTL:P3D
REFRESH-INTERVAL:P3D
CALSCALE:GREGORIAN
BEGIN:VEVENT
DTSTART:20230324T123000Z
DTEND:20230324T133000Z
X-MICROSOFT-CDO-ALLDAYEVENT:FALSE
SUMMARY:Ocean View Business Forum
DESCRIPTION:The Bethany-Fenwick Area Chamber invites Ocean View businesses to attend a morning business meeting hosted by Juicebox on Friday\, March 24th.  If you cannot attend\, you are welcome to send a business representive in your place\, as we will discuss spring initiatives and begin to look forward to fall programming.
X-ALT-DESC;FMTTYPE=text/html:The Bethany-Fenwick Area Chamber invites Ocean View businesses to attend a morning business meeting hosted by Juicebox on Friday\, March 24th.&nbsp\; If you cannot attend\, you are welcome to send a business representive in your place\, as we will discuss spring initiatives and begin to look forward to fall programming.&nbsp\;
LOCATION:Juicebox 3 Town Road Ocean View\, DE\, 19970
UID:e.2126.25223
SEQUENCE:3
DTSTAMP:20260421T055935Z
URL:http://business.thequietresorts.com/events/details/ocean-view-business-forum-25223
END:VEVENT

END:VCALENDAR
