BEGIN:VCALENDAR
VERSION:2.0
PRODID:-//ChamberMaster//Event Calendar 2.0//EN
METHOD:PUBLISH
X-PUBLISHED-TTL:P3D
REFRESH-INTERVAL:P3D
CALSCALE:GREGORIAN
BEGIN:VEVENT
DTSTART:20230413T153000Z
DTEND:20230414T010000Z
X-MICROSOFT-CDO-ALLDAYEVENT:FALSE
SUMMARY:Ocean View Brewing Co. Dine & Donate (benefitting the Millville Volunteer Fire Company)
DESCRIPTION:On April 13\, 2023 between 11:30 a.m. - 9:00 p.m. Ocean View Brewing Co. will be hosting a Dine & Donate. \n\n\n\n10% of all sales (including beer\, carry-out\, and-dine in) will benefit the Millville Volunteer Fire Company's Capital Campaign. \n\n\n\nThank you in advance for supporting your local volunteer fire fighters
X-ALT-DESC;FMTTYPE=text/html:<span style="font-size:14px\;">On April 13\, 2023 between 11:30 a.m. - 9:00 p.m. Ocean View Brewing Co. will be hosting a Dine &amp\; Donate.&nbsp\;<br />\n<br />\n10% of all sales (including beer\, carry-out\, and-dine in) will benefit the Millville Volunteer Fire Company&#39\;s Capital Campaign.&nbsp\;</span><br />\n<br />\nThank you in advance for supporting your local volunteer fire fighters
LOCATION:Ocean View Brewing Company 85 Atlantic Ave\, Ocean View\, DE 19970
UID:e.2126.25316
SEQUENCE:3
DTSTAMP:20260421T041652Z
URL:http://business.thequietresorts.com/events/details/ocean-view-brewing-co-dine-donate-benefitting-the-millville-volunteer-fire-company-25316
END:VEVENT

END:VCALENDAR
