BEGIN:VCALENDAR
VERSION:2.0
PRODID:-//ChamberMaster//Event Calendar 2.0//EN
METHOD:PUBLISH
X-PUBLISHED-TTL:P3D
REFRESH-INTERVAL:P3D
CALSCALE:GREGORIAN
BEGIN:VEVENT
DTSTART:20240415T121500Z
DTEND:20240415T170000Z
X-MICROSOFT-CDO-ALLDAYEVENT:FALSE
SUMMARY:Ocean City Summer Work Travel Conference
DESCRIPTION:The Ocean City Summer Work Travel Conference is back in person! Hear from US Department of State\, prepare with area employers\, and US Visa Sponsors\, and learn best practices for a successful Work Travel program.\n\n\n\nSpecial speaker\, Rebecca Pasini\, Deputy Assistant Secretary of US Department of State.\n\n\n\nContinental Breakfast will be provided at the Holiday Inn in Ocean City.\n\n\n\nDeadline to register is April 1st.
X-ALT-DESC;FMTTYPE=text/html:The Ocean City Summer Work Travel Conference is back in person! Hear from US Department of State\, prepare with area employers\, and US Visa Sponsors\, and learn best practices for a successful Work Travel program.<br />\n<br />\nSpecial speaker\, Rebecca Pasini\, Deputy Assistant Secretary of US Department of State.<br />\n<br />\nContinental Breakfast will be provided at the Holiday Inn in Ocean City.<br />\n<br />\nDeadline to <a href="https://chamber.oceancity.org/events/details/2024-ocean-city-summer-work-travel-conference-39871?range=365&amp\;moduleversion=3">register</a>&nbsp\;is April 1st.
LOCATION:Holiday Inn Ocean City 6600 Coastal Hwy. Ocean City\, MD 21842
UID:e.2126.28563
SEQUENCE:3
DTSTAMP:20260420T060613Z
URL:http://business.thequietresorts.com/events/details/ocean-city-summer-work-travel-conference-28563
END:VEVENT

END:VCALENDAR
