BEGIN:VCALENDAR
VERSION:2.0
PRODID:-//ChamberMaster//Event Calendar 2.0//EN
METHOD:PUBLISH
X-PUBLISHED-TTL:P3D
REFRESH-INTERVAL:P3D
CALSCALE:GREGORIAN
BEGIN:VEVENT
DTSTART:20221030T130000Z
DTEND:20221101T190000Z
X-MICROSOFT-CDO-ALLDAYEVENT:FALSE
SUMMARY:Ocean City Gift Resort Expo
DESCRIPTION:Taking place October 30th   November 1st at the Roland E. Powell Convention Center\, the Ocean City Resort Gift Expo is the northeast's largest souvenir and resort trade event with retailers from Maine to Virginia Beach. Attendees can shop the best-selling brands and new discoveries for all price points. Plus\, unbeatable travel savings include free parking\, discounted hotel rates\, and on-site buyer amenities.\n\n\n\nRegistration is free for qualified buyers so reserve your spot today: https://www.oceancitygiftshow.com/bfacc \n\n\n\nView Exhibitor List & Floorplan:\n\nhttps://www.oceancitygiftshow.com/whos-exhibiting-lp
X-ALT-DESC;FMTTYPE=text/html:<span style="font-size:16px">Taking place October 30<sup>th</sup> &ndash\; November 1<sup>st&nbsp\;</sup>at the Roland E. Powell Convention Center\, the Ocean City Resort Gift Expo is the northeast&rsquo\;s largest souvenir and resort trade event with retailers from Maine to Virginia Beach. Attendees can shop the best-selling brands and new discoveries for all price points. Plus\, unbeatable travel savings include free parking\, discounted hotel rates\, and on-site buyer amenities.<br />\n<br />\nRegistration is free for qualified buyers so reserve your spot today: </span><a href="https://www.oceancitygiftshow.com/bfacc">https://www.oceancitygiftshow.com/bfacc </a><br />\n<br />\n<span style="font-size:16px">View Exhibitor List &amp\; Floorplan:</span><br />\n<a href="https://www.oceancitygiftshow.com/whos-exhibiting-lp">https://www.oceancitygiftshow.com/whos-exhibiting-lp</a><br />\n<br />\n&nbsp\;
LOCATION:Roland E. Powell Convention Center | OCEAN CITY\, MD 4001 Coastal Hwy\, Ocean City\, MD 21842
UID:e.2126.24482
SEQUENCE:3
DTSTAMP:20260421T142203Z
URL:http://business.thequietresorts.com/events/details/ocean-city-gift-resort-expo-24482
END:VEVENT

END:VCALENDAR
