BEGIN:VCALENDAR
VERSION:2.0
PRODID:-//ChamberMaster//Event Calendar 2.0//EN
METHOD:PUBLISH
X-PUBLISHED-TTL:P3D
REFRESH-INTERVAL:P3D
CALSCALE:GREGORIAN
BEGIN:VEVENT
DTSTART:20200305T140000Z
DTEND:20200308T230000Z
X-MICROSOFT-CDO-ALLDAYEVENT:FALSE
SUMMARY:Ocean City Film Festival 2020
DESCRIPTION:The Art League of Ocean City is proud to present OC's fourth annual film festival\, showcasing 100 new films by regional and international filmmakers of every background and genre. Screenings will be held at venues across Ocean City. Don't miss the special parties to open and close the festival\, filmmaker Q&A's\, plus workshops led by local filmmakers. Workshops will be held at the OC Center for the Arts. Visit ocmdfilmfestival.com for full screening schedule and for more information.\n\n\n\nTICKETS:\n\n$99 all-access pass (best value!) includes four days of unlimited films\, workshops\, opening party\, and award ceremony/party.\n\n$69 four-day film pass includes unlimited entry into all four days of films.\n\n$20 one-day film pass includes one day of films.\n\nWorkshops ($10 each) and parties ($25 each) can be purchased separately.\n\nClick here to purchase or call the Art League at 410-524-9433\n\n\n\nLove what we're doing? Become a Friend of the Festival! Your donation will help us continue to bring amazing films & filmmakers to the OC area and to support our local film community. $25+ will receive a festival poster. $50+ receives a festival tshirt or hat.\n\n\n\n*Please note: screenings are general admission and first-come first-served. Arrive early to guarantee your seat!*
X-ALT-DESC;FMTTYPE=text/html:<span style="color: rgb(29\, 33\, 41)\; font-family: helvetica\,arial\,sans-serif\; font-size: 14px\;">The Art League of Ocean City is proud to present OC&#39\;s fourth annual film festival\, showcasing 100 new films by regional and international filmmakers of every background and genre. Screenings will be held at venues across Ocean City. Don&#39\;t miss the special parties to open and close the festival\, filmmaker Q&amp\;A&#39\;s\, plus workshops led by local filmmakers. Workshops will be held at the OC Center for the Arts. Visit&nbsp\;</span><a href="https://l.facebook.com/l.php?u=http%3A%2F%2Focmdfilmfestival.com%2F%3Ffbclid%3DIwAR3a1rhb1TFy0wuqeyeMx-_HesQzUAaJLSWoFiQW9uJK_YN9Fou5K6BhZ9k&amp\;h=AT15DfdBK4zPjmMbDX2C-4cjFXSMQPQZ63DoIKBD4iETHVAu9CMA3uAthjRr_R6ROfvDhVRP6sVQXSXnvc6fkVwgTRctOPD_oivVNL1o3FtcaQTooWRmOMTWzt2taEHkXCbJuqcK9dHGHojNQtk" rel="nofollow noopener" style="color: rgb(56\, 88\, 152)\; font-family: Helvetica\, Arial\, sans-serif\; font-size: 14px\; white-space: pre-wrap\; cursor: pointer\; text-decoration-line: none\;" target="_blank">ocmdfilmfestival.com</a><span style="color: rgb(29\, 33\, 41)\; font-family: helvetica\,arial\,sans-serif\; font-size: 14px\;">&nbsp\;for full screening schedule and for more information.</span><br />\n<br />\n<strong><span style="color: rgb(29\, 33\, 41)\; font-family: helvetica\,arial\,sans-serif\; font-size: 14px\;">TICKETS:</span></strong><br />\n<span style="color: rgb(29\, 33\, 41)\; font-family: helvetica\,arial\,sans-serif\; font-size: 14px\;">$99 all-access pass (best value!) includes four days of unlimited films\, workshops\, opening party\, and award ceremony/party.</span><br />\n<span style="color: rgb(29\, 33\, 41)\; font-family: helvetica\,arial\,sans-serif\; font-size: 14px\;">$69 four-day film pass includes unlimited entry into all four days of films.</span><br />\n<span style="color: rgb(29\, 33\, 41)\; font-family: helvetica\,arial\,sans-serif\; font-size: 14px\;">$20 one-day film pass includes one day of films.</span><br />\n<span style="color: rgb(29\, 33\, 41)\; font-family: helvetica\,arial\,sans-serif\; font-size: 14px\;">Workshops ($10 each) and parties ($25 each) can be purchased separately.</span><br />\n<span style="font-size: 14px\;"><a href="https://www.eventbrite.com/e/ocean-city-film-festival-2020-tickets-88284341843">Click here to purchase</a>&nbsp\;or call the Art League at 410-524-9433</span><br />\n<br />\n<span style="color: rgb(29\, 33\, 41)\; font-family: helvetica\,arial\,sans-serif\; font-size: 14px\;">Love what we&#39\;re doing? Become a Friend of the Festival! Your donation will help us continue to bring amazing films &amp\; filmmakers to the OC area and to support our local film community. $25+ will receive a festival poster. $50+ receives a festival tshirt or hat.</span><br />\n<br />\n<span style="color: rgb(29\, 33\, 41)\; font-family: helvetica\,arial\,sans-serif\; font-size: 14px\;">*Please note: screenings are general admission and first-come first-served. Arrive early to guarantee your seat!*</span>
LOCATION:Multiple Venues in the Ocean City Area
UID:e.2126.20071
SEQUENCE:3
DTSTAMP:20260425T225750Z
URL:http://business.thequietresorts.com/events/details/ocean-city-film-festival-2020-20071
END:VEVENT

END:VCALENDAR
