BEGIN:VCALENDAR
VERSION:2.0
PRODID:-//ChamberMaster//Event Calendar 2.0//EN
METHOD:PUBLISH
X-PUBLISHED-TTL:P3D
REFRESH-INTERVAL:P3D
CALSCALE:GREGORIAN
BEGIN:VEVENT
DTSTART;VALUE=DATE:20230302
DTEND;VALUE=DATE:20230306
TRANSP:TRANSPARENT
X-MICROSOFT-CDO-ALLDAYEVENT:TRUE
SUMMARY:Ocean City Film Festival
DESCRIPTION:Take Your Seat!\n\n\n\n\n\nThe Ocean City Film Festival is back for its 7th season March 2nd-5th in Ocean City\, MD! This year includes over 70 films from local and international filmmakers plus parties\, mixers\, panels\, and filmmaker Q&As!\n\n\n\n\n\nHeadlining this year is the one and only John Waters! Don't miss your chance to see this legendary filmmaker as he performs his live show\, "End of the World" at the Ocean Downs Casino on Saturday\, March 4th at 8pm.\n\n\n\n\n\nOur premier night at the Ocean City Performing Arts Center will feature special films\, "Hedgehog" and "Biggest Little Farm: The Return"!\n\n\n\n\n\nHOW TO FEST:\n\n\n\n\n\n1-Day Pass: good for all films\, parties\, and events on that day\n\n4-Day Pass: good for all films\, parties\, and events during the entire festival.\n\nSpecial John Waters Tickets: good for his performance on March 8th. Limited seating is available. Meet and greet tickets SOLD OUT.\n\n\n\n\n\nDon't miss your chance to see these amazing films and party alongside the filmmakers!\n\n\n\n\n\nThe OCFF is a collaboration with the Art League of Ocean City in Ocean City\, MD.
X-ALT-DESC;FMTTYPE=text/html:<div>\n<div style="background:0px 0px\; border:0px\; padding:0px">\n<h2>Take Your Seat!</h2>\n</div>\n</div>\n\n<div>\n<div style="background:0px 0px\; border:0px\; padding:0px">\n<h4>The Ocean City Film Festival is back for its 7th season March 2nd-5th in Ocean City\, MD! This year includes over 70 films from local and international filmmakers plus parties\, mixers\, panels\, and filmmaker Q&amp\;As!</h4>\n</div>\n</div>\n\n<div>\n<div style="background:0px 0px\; border:0px\; padding:0px">\n<h4>Headlining this year is the one and only John Waters! Don&rsquo\;t miss your chance to see this legendary filmmaker as he performs his live show\, &ldquo\;End of the World&rdquo\; at the Ocean Downs Casino on Saturday\, March 4th at 8pm.</h4>\n</div>\n</div>\n\n<div>\n<div style="background:0px 0px\; border:0px\; padding:0px">\n<h4>Our premier night at the Ocean City Performing Arts Center will feature special films\, &ldquo\;Hedgehog&rdquo\; and &ldquo\;Biggest Little Farm: The Return&rdquo\;!</h4>\n</div>\n</div>\n\n<div>\n<div style="background:0px 0px\; border:0px\; padding:0px">\n<h3>HOW TO FEST:</h3>\n</div>\n</div>\n\n<div>\n<div style="background:0px 0px\; border:0px\; padding:0px">\n<p><strong>1-Day Pass:</strong>&nbsp\;good for all films\, parties\, and events on that day<br />\n<strong>4-Day Pass:</strong>&nbsp\;good for all films\, parties\, and events during the entire festival.<br />\n<strong>Special John Waters Tickets:</strong>&nbsp\;good for his performance on March 8th. Limited seating is available. Meet and greet tickets SOLD OUT.</p>\n</div>\n</div>\n\n<div>\n<div style="background:0px 0px\; border:0px\; padding:0px">\n<h4>Don&rsquo\;t miss your chance to see these amazing films and party alongside the filmmakers!</h4>\n</div>\n</div>\n\n<div>\n<div style="background:0px 0px\; border:0px\; padding:0px">\n<p><em>The OCFF is a collaboration with the Art League of Ocean City in Ocean City\, MD.</em></p>\n</div>\n</div>\n
LOCATION:Ocean City\, MD
UID:e.2126.25116
SEQUENCE:3
DTSTAMP:20260421T060645Z
URL:http://business.thequietresorts.com/events/details/ocean-city-film-festival-03-02-2023-25116
END:VEVENT

END:VCALENDAR
