BEGIN:VCALENDAR
VERSION:2.0
PRODID:-//ChamberMaster//Event Calendar 2.0//EN
METHOD:PUBLISH
X-PUBLISHED-TTL:P3D
REFRESH-INTERVAL:P3D
CALSCALE:GREGORIAN
BEGIN:VEVENT
DTSTART:20231021T230000Z
DTEND:20231022T010000Z
X-MICROSOFT-CDO-ALLDAYEVENT:FALSE
SUMMARY:OC Film Festival Horror Night at the Art League
DESCRIPTION:Ready to get scared? Join us for a special showcase of short horror films from the Ocean City Film Festival vaults. Wear your spookiest costume and enter our costume contest! Three winners will win Film Fest swag. Come at 6 pm and enjoy an hour of mingling and refreshments in the Arts Center. Films begin at 7 pm on the tennis courts next door (weather permitting). Stay after the films for a Q&A with the filmmakers in attendance.\n\n$5 SUGGESTED DONATION AT THE DOOR. BRING YOUR OWN CHAIRS.\n\nFilms are not rated by MPAA\, and viewer discretion is advised.
X-ALT-DESC;FMTTYPE=text/html:<p>Ready to get scared? Join us for a special showcase of short horror films from the Ocean City Film Festival vaults. Wear your spookiest costume and enter our costume contest! Three winners will win Film Fest swag. Come at 6 pm and enjoy an hour of mingling and refreshments in the Arts Center. Films begin at 7 pm on the tennis courts next door (weather permitting). Stay after the films for a Q&amp\;A with the filmmakers in attendance.</p>\n\n<p>$5 SUGGESTED DONATION AT THE DOOR. BRING YOUR OWN CHAIRS.</p>\n\n<p><em>Films are not rated by MPAA\, and viewer discretion is advised.</em></p>\n
LOCATION:Art League of Ocean City 502 94th Street Ocean City\, MD 21842
UID:e.2126.27046
SEQUENCE:3
DTSTAMP:20260420T183825Z
URL:http://business.thequietresorts.com/events/details/oc-film-festival-horror-night-at-the-art-league-27046
END:VEVENT

END:VCALENDAR
