BEGIN:VCALENDAR
VERSION:2.0
PRODID:-//ChamberMaster//Event Calendar 2.0//EN
METHOD:PUBLISH
X-PUBLISHED-TTL:P3D
REFRESH-INTERVAL:P3D
CALSCALE:GREGORIAN
BEGIN:VEVENT
DTSTART:20231114T133000Z
DTEND:20231114T173000Z
X-MICROSOFT-CDO-ALLDAYEVENT:FALSE
SUMMARY:OC Chamber Small Business Summit
DESCRIPTION:Come spend a day with our business experts and learn more information on Human Resources\, Accounting\, Marketing/Business Development\, and many more. You will leave with a renewed sense of confidence in your business from those who have experienced the "ups-and-downs" of small business into their growth as a mid-to-major area business.
X-ALT-DESC;FMTTYPE=text/html:<span style="color: rgb(84\, 84\, 84)\; font-family: &quot\;Open Sans&quot\;\, sans-serif\; font-size: 15px\;">Come spend a day with our business experts and learn more information on Human Resources\, Accounting\, Marketing/Business Development\, and many more. You will leave with a renewed sense of confidence in your business from those who have experienced the &quot\;ups-and-downs&quot\; of small business into their growth as a mid-to-major area business.</span>
LOCATION:Fenwick Inn 13801 Coastal Hwy. Ocean City\, MD 21842
UID:e.2126.27144
SEQUENCE:3
DTSTAMP:20260420T164743Z
URL:http://business.thequietresorts.com/events/details/oc-chamber-small-business-summit-27144
END:VEVENT

END:VCALENDAR
