BEGIN:VCALENDAR
VERSION:2.0
PRODID:-//ChamberMaster//Event Calendar 2.0//EN
METHOD:PUBLISH
X-PUBLISHED-TTL:P3D
REFRESH-INTERVAL:P3D
CALSCALE:GREGORIAN
BEGIN:VEVENT
DTSTART:20211104T120000Z
DTEND:20211104T133000Z
X-MICROSOFT-CDO-ALLDAYEVENT:FALSE
SUMMARY:November 2021 Membership Meeting: - "Eggs & Issues with Senator Hocker and Representatives Gray and Collins"
DESCRIPTION:Join us on November 4th\, 2021 for our "Eggs & Issues" Membership Meeting with Senator Gerald Hocker and Representatives Ron Gray and Rich Collins. \n\n\n\nThe 2021/2022 Delaware General Assembly is underway and half complete. Numerous bills are expected to be introduced that will impact the business community. These include:\n\n	HB 150 legalizes recreational marijuana\n	SB 1\, the Healthy Delaware Families Act\n	HB 205\, Delaware EARNS Act\n	HB256 raises income taxes\n	HB 94 and HB266 are related to tipped wages and will be considered next year\n\n\n\n\n\nChamber members\, Senator Hocker and Representative Gray along with Representative Collins will discuss the legislative agenda and their goals for 2022 and how it might impact both the county/area and the business environment. It will be followed up with a short Q&A session.\n\n\n\nRegistration is required to accommodate our host. The cost is $10 and includes breakfast. \n\n \n\nMembership Meetings are intended to increase awareness of what is happening in the business community. Whether a dynamic speaker\, an educational workshop or a true networking event\, Membership Meetings are long-standing traditions in serving as an informational platform for the business community. And\, to add to the excitement   breakfast will be served to get the morning started off right.
X-ALT-DESC;FMTTYPE=text/html:<span style="font-size: 14px\;"><span style="background: white\;"><span style="word-spacing: 0px\; orphans: 2\; widows: 2\; font-variant-ligatures: normal\; font-variant-caps: normal\; -webkit-text-stroke-width: 0px\; text-decoration-style: initial\;">Join us on November 4th\, 2021 for our &quot\;Eggs &amp\; Issues&quot\; Membership Meeting with Senator Gerald Hocker and Representatives Ron Gray and Rich Collins.&nbsp\;</span></span><br />\n<br />\n<span style="word-spacing: 0px\; orphans: 2\; widows: 2\; font-variant-ligatures: normal\; font-variant-caps: normal\; -webkit-text-stroke-width: 0px\; text-decoration-style: initial\;">The 2021/2022 Delaware General Assembly is underway and half complete. Numerous bills are expected to be introduced that will impact the business community. These include:</span></span>\n<ul>\n	<li><span style="font-size:14px\;"><span style="font-family:arial\;"><span style="color:#403F42\;"><a href="https://r20.rs6.net/tn.jsp?f=001aR_DI9gOpQlt9TmhNgr24IlruhhjUBUY68NNPTO0-ripe50jLOjmf0VNbJ-7rhGKPHSafvpyq3zhd4NcvbjIa_HechaSTXJT-8ovU7Byn4JXbGTObPstStNajKYabU8GLNc6gPzl3_ZGXIiOtktDKQ0TTymLx7j0eF797-rhqjeLX9mUZYhNTc-fi32e5w-l&amp\;c=x_2_3sIQDaybguEfSo0PLr2-Lqs_B1dR2fHo57jkb6GlADelQSK2Ng==&amp\;ch=z5dPE5JhHjZq2nHyqkob6Ui7pA1UVKs6NswECYolhZJAe7FJSCWx2Q==" target="_blank"><span style="text-decoration:none\;text-underline:none\;"><span style="color:#3A96B8\;">HB 150</span></span></a> </span><span style="color:#363636\;">legalizes recreational marijuana</span></span></span></li>\n	<li><span style="font-size:14px\;"><span style="font-family:arial\;"><span style="color:#403F42\;"><a href="https://r20.rs6.net/tn.jsp?f=001aR_DI9gOpQlt9TmhNgr24IlruhhjUBUY68NNPTO0-ripe50jLOjmf0VNbJ-7rhGKGb-2vkCDrg4DC73k8G0xa-gi6D6ZFjN5-6WjXhtYCDHOySZWQpeXUTYALNG1H9IYhoCY19Ci7KWdiayKMgpa8TErMvXhnLAW4GDuNS28dmozPlzWASOt5YAi9I77T34K&amp\;c=x_2_3sIQDaybguEfSo0PLr2-Lqs_B1dR2fHo57jkb6GlADelQSK2Ng==&amp\;ch=z5dPE5JhHjZq2nHyqkob6Ui7pA1UVKs6NswECYolhZJAe7FJSCWx2Q==" target="_blank"><span style="text-decoration:none\;text-underline:none\;"><span style="color:#3A96B8\;">SB 1</span></span></a></span><span style="color:#363636\;">\, the Healthy Delaware Families Act</span></span></span></li>\n	<li><span style="font-size:14px\;"><span style="font-family:arial\;"><span style="color:#403F42\;"><a href="https://r20.rs6.net/tn.jsp?f=001aR_DI9gOpQlt9TmhNgr24IlruhhjUBUY68NNPTO0-ripe50jLOjmf0VNbJ-7rhGKzLFTey1lYQGP0DROQgBmF3hI2W6GmIKyaDaCElJTHifT9sTXJh8CircZJOc4x2O6P1SqbnoqzoUf4tTlizka4uTqj0C2v9Fu49zkqzPRsr_36_KuSWCgg4wu1EambADK&amp\;c=x_2_3sIQDaybguEfSo0PLr2-Lqs_B1dR2fHo57jkb6GlADelQSK2Ng==&amp\;ch=z5dPE5JhHjZq2nHyqkob6Ui7pA1UVKs6NswECYolhZJAe7FJSCWx2Q==" target="_blank"><span style="text-decoration:none\;text-underline:none\;"><span style="color:#3A96B8\;">HB 205</span></span></a></span><span style="color:#363636\;">\, Delaware EARNS Act</span></span></span></li>\n	<li><span style="font-size:14px\;"><span style="font-family:arial\;"><span style="color:#403F42\;"><a href="https://r20.rs6.net/tn.jsp?f=001aR_DI9gOpQlt9TmhNgr24IlruhhjUBUY68NNPTO0-ripe50jLOjmf1gUlXJ2EwZVZZtcsFehojqOAUS1Uemu8Hb-z-jcICuTSGAVduUo1h2WqKnN-iGCAt0zwUc7reDgqoon0toG2qNkrWA5pnlCfC-P0y0a6qjeQUkML1HNKN-nn4kShHlRRXk1tfMkmTrR&amp\;c=x_2_3sIQDaybguEfSo0PLr2-Lqs_B1dR2fHo57jkb6GlADelQSK2Ng==&amp\;ch=z5dPE5JhHjZq2nHyqkob6Ui7pA1UVKs6NswECYolhZJAe7FJSCWx2Q==" target="_blank"><span style="text-decoration:none\;text-underline:none\;"><span style="color:#3A96B8\;">HB256</span></span></a></span><span style="color:#363636\;"> raises income taxes</span></span></span></li>\n	<li><span style="font-size:14px\;"><span style="font-family:arial\;"><span style="color:#403F42\;"><a href="https://r20.rs6.net/tn.jsp?f=001aR_DI9gOpQlt9TmhNgr24IlruhhjUBUY68NNPTO0-ripe50jLOjmf1gUlXJ2EwZV_U8kAtNhUz1rB3xCxHGjGGZrL2m0wipsf2aiUU12t9XeC_0F387491NaORS1SuRlz56QWezzG_RFPwkbnq6SzUe8-r6MISxuzSsKJQxWsxpBYdCp4EQ7f5YubgGcjuY3&amp\;c=x_2_3sIQDaybguEfSo0PLr2-Lqs_B1dR2fHo57jkb6GlADelQSK2Ng==&amp\;ch=z5dPE5JhHjZq2nHyqkob6Ui7pA1UVKs6NswECYolhZJAe7FJSCWx2Q==" target="_blank"><span style="text-decoration:none\;text-underline:none\;"><span style="color:#3A96B8\;">HB 94</span></span></a> </span><span style="color:#403F42\;">and </span><span style="color:#403F42\;"><a href="https://r20.rs6.net/tn.jsp?f=001aR_DI9gOpQlt9TmhNgr24IlruhhjUBUY68NNPTO0-ripe50jLOjmf1gUlXJ2EwZVuJuNGDDfxsSUsCBGj5Y7miPEF59JWuNa9NEyKaDZg9o-aT25uiD6xDf1Ls75KJGbslQY-x1kyJo5sM_-RwowS_q5ZrM7n62lGRODwi0ctoefJbtH-2o7AI50aHTiRONR&amp\;c=x_2_3sIQDaybguEfSo0PLr2-Lqs_B1dR2fHo57jkb6GlADelQSK2Ng==&amp\;ch=z5dPE5JhHjZq2nHyqkob6Ui7pA1UVKs6NswECYolhZJAe7FJSCWx2Q==" target="_blank"><span style="text-decoration:none\;text-underline:none\;"><span style="color:#3A96B8\;">HB266</span></span></a></span><span style="color:#363636\;"> are related to tipped wages and will be considered next year</span></span></span></li>\n</ul>\n<br />\n<br />\n<span style="font-size: 14px\;"><span style="word-spacing: 0px\; orphans: 2\; widows: 2\; font-variant-ligatures: normal\; font-variant-caps: normal\; -webkit-text-stroke-width: 0px\; text-decoration-style: initial\;">Chamber members\, Senator Hocker and Representative Gray along with Representative Collins will discuss the legislative agenda and their goals for 2022 and how it might impact both the county/area and the business environment. It will be followed up with a short Q&amp\;A session.</span></span><br />\n<br />\n<span style="font-size: 14px\;"><strong><span style="background: white\;"><span style="color: rgb(51\, 51\, 51)\;"><span style="font-family: arial\,sans-serif\;">Registration is required to accommodate our host. The cost is $10 and includes breakfast.&nbsp\;</span></span></span></strong><br style="word-spacing: 0px\; orphans: 2\; widows: 2\; font-variant-ligatures: normal\; font-variant-caps: normal\; -webkit-text-stroke-width: 0px\; text-decoration-style: initial\;" />\n<span style="color: rgb(51\, 51\, 51)\;"><span style="font-family: arial\,sans-serif\;"><span style="word-spacing: 0px\; orphans: 2\; widows: 2\; font-variant-ligatures: normal\; font-variant-caps: normal\; -webkit-text-stroke-width: 0px\; text-decoration-style: initial\;">&nbsp\;<br />\nMembership Meetings are intended to increase awareness of what is happening in the business community. Whether a dynamic speaker\, an educational workshop or a true networking event\, Membership Meetings are long-standing traditions in serving as an informational platform for the business community. And\, to add to the excitement &hellip\; breakfast will be served to get the morning started off right.</span></span></span></span><br />\n<br />\n<span style="font-size: 14px\;"><span style="font-family: arial\;">&nbsp\;</span></span><br />\n&nbsp\;
LOCATION:Signatures at Bayside 12021 North Haven Dr. Selbyville\, DE 19975
UID:e.2126.22604
SEQUENCE:3
DTSTAMP:20260424T102323Z
URL:http://business.thequietresorts.com/events/details/november-2021-membership-meeting-eggs-issues-with-senator-hocker-and-representatives-gray-and-collins-22604
END:VEVENT

END:VCALENDAR
