BEGIN:VCALENDAR
VERSION:2.0
PRODID:-//ChamberMaster//Event Calendar 2.0//EN
METHOD:PUBLISH
X-PUBLISHED-TTL:P3D
REFRESH-INTERVAL:P3D
CALSCALE:GREGORIAN
BEGIN:VEVENT
DTSTART:20210624T130000Z
DTEND:20210624T140000Z
X-MICROSOFT-CDO-ALLDAYEVENT:FALSE
SUMMARY:Northwestern Mutual "Open House & Ribbon Cutting"
DESCRIPTION:Join Stephen Soulas and the Northwestern Mutual team in celebrating their Public Open House and Ribbon Cutting on Thursday June 24\, 2021 beginning at 9:00am.   Enjoy morning coffee & refreshments.
X-ALT-DESC;FMTTYPE=text/html:<span style="color: rgb(51\, 51\, 51)\; font-family: sans-serif\, Arial\, Verdana\, &quot\;Trebuchet MS&quot\;\; font-size: 13px\; background-color: rgb(255\, 255\, 255)\;">Join Stephen Soulas and the Northwestern Mutual team in celebrating their Public Open House and Ribbon Cutting on Thursday June 24\, 2021 beginning at 9:00am.&nbsp\; &nbsp\;Enjoy morning coffee &amp\; refreshments.</span><br />\n&nbsp\;
LOCATION:Stephen Soulas\, Northwestern Mutual 102 Central Avenue Unit 2 Ocean View\, DE 19970
UID:e.2126.22402
SEQUENCE:3
DTSTAMP:20260424T192108Z
URL:http://business.thequietresorts.com/events/details/northwestern-mutual-open-house-ribbon-cutting-22402
END:VEVENT

END:VCALENDAR
