BEGIN:VCALENDAR
VERSION:2.0
PRODID:-//ChamberMaster//Event Calendar 2.0//EN
METHOD:PUBLISH
X-PUBLISHED-TTL:P3D
REFRESH-INTERVAL:P3D
CALSCALE:GREGORIAN
BEGIN:VEVENT
DTSTART:20210520T200000Z
DTEND:20210520T220000Z
X-MICROSOFT-CDO-ALLDAYEVENT:FALSE
SUMMARY:Northrop Realty " Ribbon Cutting"
DESCRIPTION:Join the staff of Northrop Realty\, a Long & Foster Company  in celebrating their newest location in Bethany Beach for a Ribbon Cutting and Open House on Thursday May 20\, 2021 beginning at 4:00pm.
X-ALT-DESC;FMTTYPE=text/html:<span style="color: rgb(51\, 51\, 51)\; font-family: sans-serif\, Arial\, Verdana\, &quot\;Trebuchet MS&quot\;\; font-size: 13px\; background-color: rgb(255\, 255\, 255)\;">Join the staff of Northrop Realty\, a Long &amp\; Foster Company&nbsp\; in celebrating their newest location in Bethany Beach for a Ribbon Cutting and Open House on Thursday May 20\, 2021 beginning at 4:00pm.&nbsp\;&nbsp\;</span><br />\n&nbsp\;
LOCATION:Northrop Realty\, a Long & Foster Company 209 5th Street Bethany Beach\, DE 19930
UID:e.2126.22016
SEQUENCE:3
DTSTAMP:20260424T203744Z
URL:http://business.thequietresorts.com/events/details/northrop-realty-ribbon-cutting-22016
END:VEVENT

END:VCALENDAR
