BEGIN:VCALENDAR
VERSION:2.0
PRODID:-//ChamberMaster//Event Calendar 2.0//EN
METHOD:PUBLISH
X-PUBLISHED-TTL:P3D
REFRESH-INTERVAL:P3D
CALSCALE:GREGORIAN
BEGIN:VEVENT
DTSTART:20200305T220000Z
DTEND:20200306T045500Z
X-MICROSOFT-CDO-ALLDAYEVENT:FALSE
SUMMARY:Northeast Seafood Kitchen Dine 'n Donate
DESCRIPTION:Northeast Seafood Kitchen\, 29 Atlantic Ave\, Ocean View\, will offer a Dine 'n Donate\, Thursday\, March 5\, 2020\, from 5 pm to closing where a portion of dinner proceeds will be donated to support the Ocean View Historical Society that runs the Coastal Towns Historic Village in Ocean View.
X-ALT-DESC;FMTTYPE=text/html:<strong><span style="color:black\;"><span style="font-family:arial\,sans-serif\;"><span style="font-size:10.0pt\;">Northeast Seafood Kitchen\, 29 Atlantic Ave\, Ocean View\, will offer a Dine &#39\;n Donate\, Thursday\, March 5\, 2020\, from 5 pm to closing where a portion of dinner proceeds will be donated to support the Ocean View Historical Society that runs the Coastal Towns Historic Village in Ocean View.</span></span></span></strong><br />\n&nbsp\;<br />\n&nbsp\;
LOCATION:Northeast Seafood Kitchen\, 29 Atlantic Ave\, Ocean View
UID:e.2126.20269
SEQUENCE:3
DTSTAMP:20260425T225128Z
URL:http://business.thequietresorts.com/events/details/northeast-seafood-kitchen-dine-n-donate-20269
END:VEVENT

END:VCALENDAR
