BEGIN:VCALENDAR
VERSION:2.0
PRODID:-//ChamberMaster//Event Calendar 2.0//EN
METHOD:PUBLISH
X-PUBLISHED-TTL:P3D
REFRESH-INTERVAL:P3D
CALSCALE:GREGORIAN
BEGIN:VEVENT
DTSTART:20240101T000000Z
DTEND:20240101T050000Z
X-MICROSOFT-CDO-ALLDAYEVENT:FALSE
SUMMARY:New Year's Extravaganza at Dickens Parlour Theatre
DESCRIPTION:New Year's Eve Extravaganza! \n\nOur evening starts with a welcoming glass of "Bubbly" Prosecco for each guest upon arrival.\n\nCelebrate with our Chef Inspired "Surf & Turf" feast: Beef Flank Steak served with house Chimichurri & Jumbo Lump Crab Cake\, with fingerling potatoes\, seasonal vegetables\, house salad\, rolls and butter\, soft drinks\, and iced tea. (Vegetarian Lentil option available) *CASH BAR\n\nFollowed by a Special Magic Performance with Nathan Coe Marsh. Nathan has performed on Penn & Teller Fool Us. His wry sense of humor and mind-blowing magic have made him one of the most sought-after entertainers across the country.\n\nEnd the evening with dancing to live jazz music performed by David Libby & Friends until midnight.
X-ALT-DESC;FMTTYPE=text/html:<div style="text-align:center"><strong>New Year&#39\;s Eve Extravaganza!&nbsp\;</strong></div>\n\n<p style="text-align:center">Our evening starts with a welcoming glass of &ldquo\;Bubbly&rdquo\; Prosecco for each guest upon arrival.</p>\n\n<p style="text-align:center">Celebrate with our Chef Inspired &ldquo\;<strong>Surf &amp\; Turf&rdquo\;</strong>&nbsp\;feast: Beef Flank Steak served with house Chimichurri &amp\; Jumbo Lump Crab Cake\, with fingerling potatoes\, seasonal vegetables\, house salad\, rolls and butter\, soft drinks\, and iced tea. (Vegetarian Lentil option available) *<strong>CASH BAR</strong></p>\n\n<p style="text-align:center">Followed by a Special Magic Performance with Nathan Coe Marsh. Nathan has performed on Penn &amp\; Teller Fool Us. His wry sense of humor and mind-blowing magic have made him one of the most sought-after entertainers across the country.</p>\n\n<p style="text-align:center">End the evening with dancing to live jazz music performed by&nbsp\;<em>David Libby &amp\; Friends&nbsp\;</em>until midnight.</p>\n\n<div style="text-align:center">&nbsp\;</div>\n
LOCATION:Dickens Parlour Theatre 31810 Good Earth Lane Ocean View\, DE 19970
UID:e.2126.27350
SEQUENCE:3
DTSTAMP:20260420T151312Z
URL:http://business.thequietresorts.com/events/details/new-year-s-extravaganza-at-dickens-parlour-theatre-27350
END:VEVENT

END:VCALENDAR
