BEGIN:VCALENDAR
VERSION:2.0
PRODID:-//ChamberMaster//Event Calendar 2.0//EN
METHOD:PUBLISH
X-PUBLISHED-TTL:P3D
REFRESH-INTERVAL:P3D
CALSCALE:GREGORIAN
BEGIN:VEVENT
DTSTART:20231231T190000Z
DTEND:20231231T210000Z
X-MICROSOFT-CDO-ALLDAYEVENT:FALSE
SUMMARY:New Year's Eve Family Fun at Dickens Parlour Theatre
DESCRIPTION:Join us on New Year's Eve at Dickens Parlour Theatre for a special round of magic\, mirth\, and munchies. In the comfort of the Dickens dining room\, we'll serve you a Fun spread of meats\, cheeses\, fruit\, crostini\, chips\, dips\, and desserts\, including a Sparkling Cider toast\, while our Magical Merlins delight and enchant your family!
X-ALT-DESC;FMTTYPE=text/html:<span style="color:rgb(0\, 0\, 0)\; font-family:tahoma\,geneva\,sans-serif\; font-size:14px">Join us on New Year&rsquo\;s Eve at Dickens Parlour Theatre for a special round of magic\, mirth\, and munchies. In the comfort of the Dickens dining room\, we&rsquo\;ll serve you a Fun spread of meats\, cheeses\, fruit\, crostini\, chips\, dips\, and desserts\, including a Sparkling Cider toast\, while our Magical Merlins delight and enchant your family!</span>
LOCATION:Dickens Parlour Theatre 31810 Good Earth Lane Ocean View\, DE 19970
UID:e.2126.27349
SEQUENCE:3
DTSTAMP:20260420T165424Z
URL:http://business.thequietresorts.com/events/details/new-year-s-eve-family-fun-at-dickens-parlour-theatre-27349
END:VEVENT

END:VCALENDAR
