BEGIN:VCALENDAR
VERSION:2.0
PRODID:-//ChamberMaster//Event Calendar 2.0//EN
METHOD:PUBLISH
X-PUBLISHED-TTL:P3D
REFRESH-INTERVAL:P3D
CALSCALE:GREGORIAN
BEGIN:VEVENT
DTSTART:20231231T220000Z
DTEND:20240101T020000Z
X-MICROSOFT-CDO-ALLDAYEVENT:FALSE
SUMMARY:New Year's Eve Dinner @ The Salted Rim Margarita Bar & Grille
DESCRIPTION:New Year's Eve Dinner\n\nSeatings are at 5:00pm - 7:00pm - 9:00pm\n\nReservations are strongly suggested\n\nWe will be featuring a Gourmet menu to celebrate the coming New Year!\n\nDJ "Denny"  9pm-12am will ring in the\n\nNew Year with champagne and party favors at midnight.\n\n\n\nDetailed information and to book your reservation\, click on the link:\n\nhttps://www.saltedrimde.com/
X-ALT-DESC;FMTTYPE=text/html:<h2 style="text-align:center"><span style="font-family:verdana"><span style="color:#FF0000"><em><strong>New Year&#39\;s Eve Dinner</strong></em></span></span></h2>\n\n<h4 style="text-align:center"><span style="font-size:16px">Seatings are at 5:00pm - 7:00pm - 9:00pm</span></h4>\n\n<p style="text-align:center"><span style="font-size:14px"><strong>Reservations are strongly suggested</strong></span></p>\n\n<h3 style="text-align:center"><span style="font-size:14px"><strong><em>We will be featuring a Gourmet menu to celebrate the coming New Year!</em></strong></span></h3>\n\n<h4 style="text-align:center"><span style="color:rgb(0\, 0\, 0)\; font-size:14px"><em><span style="font-family:arial\,helvetica\,sans-serif"><strong>DJ &quot\;Denny&quot\;&nbsp\; 9pm-12am will ring in the</strong></span></em></span></h4>\n\n<h5 style="text-align:center"><span style="color:rgb(0\, 0\, 0)\; font-size:14px"><em><span style="font-family:arial\,helvetica\,sans-serif"><strong>New Year with champagne and party favors at midnight.</strong></span></em></span></h5>\n\n<h4><br />\n<strong>Detailed information and to book your reservation\, click on the link:</strong></h4>\n\n<p><a href="https://www.saltedrimde.com/">https://www.saltedrimde.com/</a></p>\n
LOCATION:The Salted Rim Margarita Bar & Grille 35553 Atlantic Avenue Millville\, DE 19967
UID:e.2126.27388
SEQUENCE:3
DTSTAMP:20260420T152616Z
URL:http://business.thequietresorts.com/events/details/new-year-s-eve-dinner-the-salted-rim-margarita-bar-grille-12-31-2023-27388
END:VEVENT

END:VCALENDAR
