BEGIN:VCALENDAR
VERSION:2.0
PRODID:-//ChamberMaster//Event Calendar 2.0//EN
METHOD:PUBLISH
X-PUBLISHED-TTL:P3D
REFRESH-INTERVAL:P3D
CALSCALE:GREGORIAN
BEGIN:VEVENT
DTSTART:20211231T210000Z
DTEND:20220101T020000Z
X-MICROSOFT-CDO-ALLDAYEVENT:FALSE
SUMMARY:New Year's Eve Dinner @ The Salted Rim Margarita Bar & Grille
DESCRIPTION:New Year's Eve Dinner\n\n4:00 - 9:00pm\n\nRESERVATIONS SUGGESTED\n\nWe will be featuring a Gourmet menu to celebrate the coming New Year!\n\nDJ Pat will perform from 8pm-12am and then will ring in the New Year with champagne and party favors at midnight!\n\n\n\nBook Reservation click on the link:\n\nhttps://www.eventbrite.com/e/new-years-eve-dinner-the-salted-rim-margarita-bar-grille-tickets-226086860887\nAll New Year's Eve reservations will have a time limit in order to accommodate other diners. Parties of 2 reservation limited to 1-1/2 hours\, Parties of 4-6 reservation limited to 2 hours. A 9:00 reservation is the only time slot where you will be able to keep your table until the ball drops. Everyone in your party must order off of the New Year's Eve Special menu for a New Year's Eve reservation.\n\nAny questions\, please contact Cindy at 410-371-9657.\n\n\n\n \n\nNEW YEAR'S EVE MENU\n\nAPPETIZERS\n\nTEMPURA SHRIMP - Jumbo butterflied shrimp fried light & crispy\, served atop seaweed salad\, with a citrus-soy dipping sauce (6\, 16/20s) - $14\n\nOYSTERS ROCKEFELLER - Large local oysters topped with house Rockefeller mix & baked (6\, bed of greens) - $14\n\nCRAB DEVILED EGGS (6) - $14\n\nCRAB RANGOON - Lump crab mixed with blended cheeses & spices wrapped in wontons then fried crispy (4) - $12\n\nHEIRLOOM TOMATO CAPRESE - Fresh mozzarella\, fried capers\, EVOO\, balsamic drizzle\, basil - $9\n\nCRAB DIP - Creamy\, cheesy crab dip\, melted cheese\, toasted baguette - $15\n\nCREAM OF CRAB - Sweet crab in a creamy soup base with a touch of Old Bay - $11\n\nROASTED TOMATO BISQUE - Roasted tomatoes\, touch of cream\, fresh basil - $8\n\nCAESAR SALAD small - Crisp romaine\, house made thick & creamy Caesar dressing\, fresh parmesan\, house made croutons - $7\n\nWEDGE SALAD small - One Iceburg lettuce wedge\, bleu cheese dressing\, bacon\, craisins\, gorgonzola crumbles\, balsamic glaze - $7\n\nGARDEN SALAD small - Mixed baby leaf lettuces\, tomatoes\, onion\, green peppers & cucumbers - $7\n\nDressings: Honey Mustard\, Ranch\, Chipotle Ranch\, Balsamic Vinaigrette\, Bleu Cheese\, Caesar\n\n\n\nENTREES\n\nAll entrees served with fresh asparagus and mashed potatoes\n\nSTUFFED LOBSTER TAIL - 6 oz lobster tail stuffed with lump crab imperial & broiled to perfection. Served with drawn butter & lemon - Single $38\, Twin $62\n\n   BROILED LOBSTER TAIL - not stuffed - Single $30\, Twin $52\n\nBACON WRAPPED FILET MIGNON- 6 oz. filet mignon wrapped in bacon\, served with house bordelaise sauce - $30\n\nTWIN CRAB CAKES - Twin 5 oz. lump crab cakes served with tartar sauce - $39\n\nFILET MIGNON & CRAB CAKE - 6 oz bacon wrapped filet with bordelaise sauce & a 5 oz lump crab cake - $48\n\nFILET MIGNON & LOBSTER TAIL - 6 oz lobster tail & a 6 oz bacon wrapped filet with bordelaise sauce -$60   Stuffed Lobster tail + $8\n\nSCALLOPS & FILET MEDALLIONS - Seared fresh day boat scallops (6 oz) & 3 oz bacon wrapped filet medallions (3) topped with house chimichurri - $50\n\nSTEAK & BBQ SHRIMP - Seared 12 oz NY Strip steak with (5) grilled bacon wrapped shrimp with house BBQ sauce - (12 oz NY\, 5 shrimp) - $45\n\nGARLIC HERB ROASTED HALF CHICKEN - Garlic & fresh herb rubbed half chicken\, slow roasted & basted with butter - $28\n\nTEMPURA STUFFED JUMBO SHRIMP (6)- Jumbo shrimp stuffed with crab cake dipped in tempura batter & lightly fried. Served with drawn butter &\n\ncocktail sauce - $32\n\nSTUFFED GROUPER - Tender grouper filet stuffed with crab imperial - $22\n\n\n\nDESSERTS\n\nBAILEY'S IRISH CREAM CHEESECAKE - Mellow Irish cream and chunks of white chocolate baked in a chocolate cookie crust - $7.99\n\nDEVILS' OWN - 3 layers of rich Devil's food cake\, chunks of chocolate\, stacked with butter cream icing - $7.99\n\nPEANUT BUTTER PIE - Oreo cookie crust\, peanut butter cream cheese filling\, chocolate ganache\, served\n\nfrozen - $7.99
X-ALT-DESC;FMTTYPE=text/html:<h2 style="text-align:center"><span style="font-size:14px"><span style="font-family:arial"><span style="color:#0000FF"><strong>New Year&#39\;s Eve Dinner</strong></span></span></span></h2>\n\n<p style="text-align:center"><span style="font-size:14px"><span style="font-family:arial"><strong>4:00 - 9:00pm</strong></span></span></p>\n\n<p style="text-align:center"><span style="font-size:14px"><span style="font-family:arial">RESERVATIONS SUGGESTED</span></span></p>\n\n<p style="text-align:center"><span style="font-size:14px"><span style="font-family:arial">We will be featuring a Gourmet menu to celebrate the coming New Year!</span></span></p>\n\n<p style="text-align:center"><span style="font-size:14px"><span style="font-family:arial">DJ Pat will perform from 8pm-12am and then will ring in the New Year with champagne and party favors at midnight!</span></span></p>\n\n<p><br />\n<span style="font-size:14px"><span style="font-family:arial"><span style="color:#FF0000"><strong>Book Reservation click on the link:</strong></span></span></span></p>\n\n<p><a href="https://www.eventbrite.com/e/new-years-eve-dinner-the-salted-rim-margarita-bar-grille-tickets-226086860887">https://www.eventbrite.com/e/new-years-eve-dinner-the-salted-rim-margarita-bar-grille-tickets-226086860887</a></p>\n<span style="background-color:rgb(255\, 255\, 255)\; color:rgb(0\, 0\, 255)\; font-family:hind madurai\,sans-serif\; font-size:14px"><strong>All New Year&#39\;s Eve reservations will have a time limit in order to accommodate other diners. Parties of 2 reservation limited to 1-1/2 hours\, Parties of 4-6 reservation limited&nbsp\;</strong></span><span style="background-color:rgb(255\, 255\, 255)\; color:rgb(0\, 0\, 255)\; font-family:hind madurai\,sans-serif\; font-size:14px"><strong>to 2 hours. A 9:00 reservation is the only time slot where you will be able to keep your table until the ball drops. Everyone in your party must order off of the New Year&#39\;s Eve Special menu for a New Year&#39\;s Eve reservation.</strong></span>\n\n<p><span style="font-size:14px"><span style="font-family:arial">Any questions\, please contact Cindy at 410-371-9657.</span></span></p>\n\n<h2><br />\n&nbsp\;</h2>\n\n<h1 style="text-align:center"><span style="font-size:14px"><span style="font-family:arial"><span style="color:#0000FF">NEW YEAR&#39\;S EVE MENU</span></span></span></h1>\n\n<h3 style="text-align:center"><span style="font-size:14px"><span style="font-family:arial"><strong>APPETIZERS</strong></span></span></h3>\n\n<p><em><strong>TEMPURA SHRIMP</strong></em>&nbsp\;- Jumbo butterflied shrimp fried light &amp\; crispy\, served atop seaweed salad\, with a citrus-soy dipping sauce (6\, 16/20s) - $14</p>\n\n<p><em><strong>OYSTERS ROCKEFELLER</strong></em>&nbsp\;- Large local oysters topped with house Rockefeller mix &amp\; baked (6\, bed of greens) - $14</p>\n\n<p><em><strong>CRAB DEVILED EGGS</strong></em>&nbsp\;(6) - $14</p>\n\n<p><em><strong>CRAB RANGOON</strong></em>&nbsp\;- Lump crab mixed with blended cheeses &amp\; spices wrapped in wontons then fried crispy (4) - $12</p>\n\n<p><em><strong>HEIRLOOM TOMATO CAPRESE</strong></em>&nbsp\;- Fresh mozzarella\, fried capers\, EVOO\, balsamic drizzle\, basil - $9</p>\n\n<p><em><strong>CRAB DIP</strong></em>&nbsp\;- Creamy\, cheesy crab dip\, melted cheese\, toasted baguette - $15</p>\n\n<p><em><strong>CREAM OF CRAB</strong></em>&nbsp\;- Sweet crab in a creamy soup base with a touch of Old Bay - $11</p>\n\n<p><strong><em>ROASTED TOMATO BISQUE</em></strong>&nbsp\;- Roasted tomatoes\, touch of cream\, fresh basil - $8</p>\n\n<p><em><strong>CAESAR SALAD</strong></em>&nbsp\;small - Crisp romaine\, house made thick &amp\; creamy Caesar dressing\, fresh parmesan\, house made croutons - $7</p>\n\n<p><em><strong>WEDGE SALAD</strong></em>&nbsp\;small - One Iceburg lettuce wedge\, bleu cheese dressing\, bacon\, craisins\, gorgonzola crumbles\, balsamic glaze - $7</p>\n\n<p><em><strong>GARDEN SALAD</strong></em>&nbsp\;small - Mixed baby leaf lettuces\, tomatoes\, onion\, green peppers &amp\; cucumbers - $7</p>\n\n<p><span style="font-size:14px"><span style="font-family:arial"><em>Dressings: Honey Mustard\, Ranch\, Chipotle Ranch\, Balsamic Vinaigrette\, Bleu Cheese\, Caesar</em></span></span></p>\n\n<h3 style="text-align:center"><br />\n<span style="font-size:14px"><span style="font-family:arial"><strong>ENTREES</strong></span></span></h3>\n\n<p style="text-align:center"><span style="font-size:14px"><span style="font-family:arial">All entrees served with fresh asparagus and mashed potatoes</span></span></p>\n\n<p><em><strong>STUFFED LOBSTER TAIL</strong></em>&nbsp\;- 6 oz lobster tail stuffed with lump crab imperial &amp\; broiled to perfection. Served with drawn butter &amp\; lemon - Single $38\, Twin $62</p>\n\n<p>&nbsp\;&nbsp\;&nbsp\;<em>BROILED LOBSTER TAIL</em>&nbsp\;- not stuffed - Single $30\, Twin $52</p>\n\n<p><em><strong>BACON WRAPPED FILET MIGNON</strong></em>- 6 oz. filet mignon wrapped in bacon\, served with house bordelaise sauce - $30</p>\n\n<p><em><strong>TWIN CRAB CAKES</strong></em>&nbsp\;- Twin 5 oz. lump crab cakes served with tartar sauce - $39</p>\n\n<p><em><strong>FILET MIGNON &amp\; CRAB CAKE</strong></em>&nbsp\;- 6 oz bacon wrapped filet with bordelaise sauce &amp\; a 5 oz lump crab cake - $48</p>\n\n<p><em><strong>FILET MIGNON &amp\; LOBSTER TAIL</strong></em>&nbsp\;- 6 oz lobster tail &amp\; a 6 oz bacon wrapped filet with bordelaise sauce -$60 &bull\; Stuffed Lobster tail + $8</p>\n\n<p><strong><em>SCALLOPS &amp\; FILET MEDALLIONS</em></strong>&nbsp\;- Seared fresh day boat scallops (6 oz) &amp\; 3 oz bacon wrapped filet medallions (3) topped with house chimichurri - $50</p>\n\n<p><em><strong>STEAK &amp\; BBQ SHRIMP</strong></em>&nbsp\;- Seared 12 oz NY Strip steak with (5) grilled bacon wrapped shrimp with house BBQ sauce - (12 oz NY\, 5 shrimp) - $45</p>\n\n<p><em><strong>GARLIC HERB ROASTED HALF CHICKEN</strong></em>&nbsp\;- Garlic &amp\; fresh herb rubbed half chicken\, slow roasted &amp\; basted with butter - $28</p>\n\n<p><em><strong>TEMPURA STUFFED JUMBO SHRIMP</strong></em>&nbsp\;(6)- Jumbo shrimp stuffed with crab cake dipped in tempura batter &amp\; lightly fried. Served with drawn butter &amp\;<br />\ncocktail sauce - $32</p>\n\n<p><em><strong>STUFFED GROUPER</strong></em>&nbsp\;- Tender grouper filet stuffed with crab imperial - $22</p>\n\n<p style="text-align:center"><br />\n<em><strong><span style="color:rgb(0\, 0\, 0)">DESSERTS</span></strong></em></p>\n\n<p><span style="background-color:rgb(255\, 255\, 255)\; font-size:13px"><strong><em>BAILEY&#39\;S IRISH CREAM CHEESECAKE&nbsp\;</em></strong></span><span style="background-color:rgb(255\, 255\, 255)\; font-family:sans-serif\,arial\,verdana\,trebuchet ms\; font-size:13px">- Mellow Irish cream and chunks of white chocolate baked in a chocolate cookie crust - $<span style="font-size:14px">7.99</span></span></p>\n\n<p><em><strong><span style="color:rgb(0\, 0\, 0)">DEVILS&#39\; OWN</span></strong></em><span style="color:rgb(0\, 0\, 0)">&nbsp\;- 3 layers of rich Devil&#39\;s food cake\, chunks of chocolate\, stacked with butter cream icing - $<span style="font-size:14px">7.99</span></span></p>\n\n<p><em><strong><span style="color:rgb(0\, 0\, 0)">PEANUT BUTTER PIE</span></strong></em><span style="color:rgb(0\, 0\, 0)">&nbsp\;- Oreo cookie crust\, peanut butter cream cheese filling\, chocolate ganache\, served<br />\nfrozen - $<span style="font-size:14px">7.99</span></span></p>\n\n<p>&nbsp\;</p>\n
LOCATION:The Salted Rim Margarita Bar & Grille 35553 Atlantic Avenue Millville\, DE 19967
UID:e.2126.23325
SEQUENCE:3
DTSTAMP:20260424T091755Z
URL:http://business.thequietresorts.com/events/details/new-year-s-eve-dinner-the-salted-rim-margarita-bar-grille-12-31-2021-23325
END:VEVENT

END:VCALENDAR
