BEGIN:VCALENDAR
VERSION:2.0
PRODID:-//ChamberMaster//Event Calendar 2.0//EN
METHOD:PUBLISH
X-PUBLISHED-TTL:P3D
REFRESH-INTERVAL:P3D
CALSCALE:GREGORIAN
BEGIN:VEVENT
DTSTART:20240508T200000Z
DTEND:20240508T220000Z
X-MICROSOFT-CDO-ALLDAYEVENT:FALSE
SUMMARY:Networking Event at PAM Health Rehabilitation Hospital of Georgetown
DESCRIPTION:Tacobout Not Your Average Rehab\n\nNetworking Event at PAM Health Rehabilitation Hospital\n\nJoin us for Margaritas and Nachos and get to know your local businesses
X-ALT-DESC;FMTTYPE=text/html:Tacobout Not Your Average Rehab<br />\nNetworking Event at PAM Health Rehabilitation Hospital<br />\nJoin us for Margaritas and Nachos and get to know your local businesses<br />\n&nbsp\;
LOCATION:PAM Health Rehabilitation Hospital of Georgetown 22303 DuPont Blvd. Georgetown\, DE 19947
UID:e.2126.29281
SEQUENCE:3
DTSTAMP:20260420T060916Z
URL:http://business.thequietresorts.com/events/details/networking-event-at-pam-health-rehabilitation-hospital-of-georgetown-29281
END:VEVENT

END:VCALENDAR
