BEGIN:VCALENDAR
VERSION:2.0
PRODID:-//ChamberMaster//Event Calendar 2.0//EN
METHOD:PUBLISH
X-PUBLISHED-TTL:P3D
REFRESH-INTERVAL:P3D
CALSCALE:GREGORIAN
BEGIN:VEVENT
DTSTART:20230921T150000Z
DTEND:20230921T160000Z
X-MICROSOFT-CDO-ALLDAYEVENT:FALSE
SUMMARY:Navigating Cash Flow Workshop with SBDC
DESCRIPTION:Join the Community Navigator Program powered by the DE SBDC and J.P. Morgan Chase for this workshop to learn best practices on how to navigate the inflows and outflows of cash to manage the cash flow in your business effectively. Topics covered include: \n\n	Cash flow basics\n	Maximizing cash in\n	Minimizing cash out\n\n\nMake cash work for you!\n\nRegister for this workshop HERE.
X-ALT-DESC;FMTTYPE=text/html:<span style="color:black\;"><span style="font-size:11.5pt\;">Join the Community Navigator Program powered by the DE SBDC and J.P. Morgan Chase for this workshop to learn best practices on how to navigate the inflows and outflows of cash to manage the cash flow in your business effectively. Topics covered include: </span></span>\n<ul>\n	<li style="color:black\;background-image:initial\;background-position:initial\;background-size:initial\;background-repeat:initial\;background-attachment:initial\;background-origin:initial\;background-clip:initial\;"><span style="font-size:11.5pt\;">Cash flow basics</span></li>\n	<li style="color:black\;background-image:initial\;background-position:initial\;background-size:initial\;background-repeat:initial\;background-attachment:initial\;background-origin:initial\;background-clip:initial\;"><span style="font-size:11.5pt\;">Maximizing cash in</span></li>\n	<li style="color:black\;background-image:initial\;background-position:initial\;background-size:initial\;background-repeat:initial\;background-attachment:initial\;background-origin:initial\;background-clip:initial\;"><span style="font-size:11.5pt\;">Minimizing cash out</span></li>\n</ul>\n\n<div style="color:black\;background-image:initial\;background-position:initial\;background-size:initial\;background-repeat:initial\;background-attachment:initial\;background-origin:initial\;background-clip:initial\;"><span style="font-size:11.5pt\;">Make cash work for you!</span>\n\n<p style="background:white"><span style="font-family:arial\;"><span style="font-size:14px\;"><span class="xxxcontentpasted01"><span style="color:black">Register for this workshop&nbsp\;</span></span><b><span style="color:black"><a href="https://portal.navigatede.org/workshop.aspx?ekey=1430066" title="https://portal.navigatede.org/workshop.aspx?ekey=1430066">HERE</a></span></b><span class="xxxcontentpasted01"><span style="color:black">.</span></span></span></span><o:p></o:p></p>\n</div>\n
LOCATION:Online Register for this workshop HERE.
UID:e.2126.26658
SEQUENCE:3
DTSTAMP:20260420T195539Z
URL:http://business.thequietresorts.com/events/details/navigating-cash-flow-workshop-with-sbdc-26658
END:VEVENT

END:VCALENDAR
