BEGIN:VCALENDAR
VERSION:2.0
PRODID:-//ChamberMaster//Event Calendar 2.0//EN
METHOD:PUBLISH
X-PUBLISHED-TTL:P3D
REFRESH-INTERVAL:P3D
CALSCALE:GREGORIAN
BEGIN:VEVENT
DTSTART:20240327T160000Z
DTEND:20240327T170000Z
X-MICROSOFT-CDO-ALLDAYEVENT:FALSE
SUMMARY:Navigate Medicare with Confidence Free Educational Event at the Selbyville Library
DESCRIPTION:This FREE lunch and learn all about Medicare & Medicare Supplements in Selbyville\, Delaware! Join Avery Hall agents Tracy K. Jones and Alyssa Sinagra to learn all about how to navigate the complicated world of Medicare with confidence. \n\n \n\nRegister for this event by emailing medicare@averyhall.com\, calling Belle Torres at 410-742-5111\, or visiting this link: \n\nhttps://www.eventbrite.com/.../avery-hall-insurance-free.
X-ALT-DESC;FMTTYPE=text/html:<span style="font-family:calibri\,sans-serif\;"><span style="font-size:11.0pt\;">This FREE lunch and learn all about Medicare &amp\; Medicare Supplements in Selbyville\, Delaware! </span></span><span style="font-family:calibri\,sans-serif\;"><span style="font-size:11.0pt\;">Join Avery Hall agents Tracy K. Jones and Alyssa Sinagra to learn all about how to navigate the complicated world of Medicare with confidence. </span></span><br />\n&nbsp\;<br />\n<span style="font-family:calibri\,sans-serif\;"><span style="font-size:11.0pt\;">Register for this event by emailing <a href="mailto:medicare@averyhall.com">medicare@averyhall.com</a>\, calling Belle Torres at 410-742-5111\, or visiting this link: </span></span><br />\n<span style="font-family:calibri\,sans-serif\;"><span style="font-size:11.0pt\;"><a href="https://www.eventbrite.com/.../avery-hall-insurance-free">https://www.eventbrite.com/.../avery-hall-insurance-free</a>.</span></span>
LOCATION:Selbyville Public Library 11 S. Main St. Selbyville\, DE 19975
UID:e.2126.28549
SEQUENCE:3
DTSTAMP:20260420T075012Z
URL:http://business.thequietresorts.com/events/details/navigate-medicare-with-confidence-free-educational-event-at-the-selbyville-library-28549
END:VEVENT

END:VCALENDAR
