BEGIN:VCALENDAR
VERSION:2.0
PRODID:-//ChamberMaster//Event Calendar 2.0//EN
METHOD:PUBLISH
X-PUBLISHED-TTL:P3D
REFRESH-INTERVAL:P3D
CALSCALE:GREGORIAN
BEGIN:VEVENT
DTSTART:20230222T163000Z
DTEND:20230223T030000Z
X-MICROSOFT-CDO-ALLDAYEVENT:FALSE
SUMMARY:National Margarita Day
DESCRIPTION:Come Raise a Glass for\n\nNational Margarita Day!\n\n\n\nWednesday\, February 22   ALL DAY\n\n\n\nALL DAY Specials\n\n$6 - House Margaritas\n\n$8 - Specialty Margaritas\n\n$5 - Tacos - chicken & beef\n\n$6 Tacos - shrimp & fish\n\n$15 - All Fajitas\n\n\n\nWhile you are there stock up on summer tees.  All tees are 25% OFF
X-ALT-DESC;FMTTYPE=text/html:<div style="text-align: center\;"><span style="font-size:20px"><span style="font-family:comic sans ms"><span style="color:#B22222"><strong>Come Raise a Glass for<br />\nNational Margarita Day!</strong></span></span></span><br />\n<br />\n<em>Wednesday\, February 22 &bull\; ALL DAY<br />\n<br />\n<strong>ALL DAY Specials</strong><br />\n$6 - House Margaritas<br />\n$8 - Specialty Margaritas<br />\n$5 - Tacos - chicken &amp\; beef<br />\n$6 Tacos - shrimp &amp\; fish<br />\n$15 - All Fajitas</em><br />\n<br />\n<span style="font-size:16px">While you are there stock up on summer tees.&nbsp\; All tees are 25% OFF</span><br />\n<br />\n&nbsp\;</div>\n
LOCATION:The Salted Rim Margarita Bar & Grille 35553 Atlantic Avenue Millville\, DE 19967 302-537-7373 www.saltedrimde.com
UID:e.2126.25177
SEQUENCE:3
DTSTAMP:20260421T074530Z
URL:http://business.thequietresorts.com/events/details/national-margarita-day-25177
END:VEVENT

END:VCALENDAR
