BEGIN:VCALENDAR
VERSION:2.0
PRODID:-//ChamberMaster//Event Calendar 2.0//EN
METHOD:PUBLISH
X-PUBLISHED-TTL:P3D
REFRESH-INTERVAL:P3D
CALSCALE:GREGORIAN
BEGIN:VEVENT
DTSTART:20230803T200000Z
DTEND:20230803T220000Z
X-MICROSOFT-CDO-ALLDAYEVENT:FALSE
SUMMARY:Nally Homes Grand Opening Ribbon Cutting and Happy Hour
DESCRIPTION:Join the Bethany-Fenwick Area Chamber of Commerce in celebrating Nally Ventures' newest business\, Nally Homes\, with a grand opening ribbon cutting on Thursday\, August 3rd!  As a full-service custom home builder\, Nally Homes' goal is to deliver your dream on time and on budget with the features you expect and the high quality you deserve.  The celebration will begin at 4:00 PM with the ribbon cutting taking place at 5:00 PM!  Stop by after work to meet the Nally Homes team\, network with fellow chamber and community members\, and enjoy provided refreshments by Taste Events and desserts by Sweet Disposition and light hors d'oeuvres.\n\n\n\nAdditional event parking will be available at The Hope Center at Mariner's Bethel UMC (97 Central Ave\, Ocean View\, DE 19970).
X-ALT-DESC;FMTTYPE=text/html:Join the Bethany-Fenwick Area Chamber of Commerce in celebrating Nally Ventures&#39\; newest business\, Nally Homes\, with a grand opening ribbon cutting on Thursday\, August 3rd!&nbsp\; As a full-service custom home builder\, Nally Homes&#39\; goal is to deliver your dream on time and on budget with the features you expect and the high quality you deserve.&nbsp\; The celebration will begin at 4:00 PM with the ribbon cutting taking place at 5:00 PM!&nbsp\; Stop by after work to meet the Nally Homes team\, network with fellow chamber and community members\, and enjoy provided refreshments by Taste Events and desserts by Sweet Disposition and light hors d&#39\;oeuvres.<br />\n<br />\nAdditional event parking will be available at The Hope Center at Mariner&#39\;s Bethel UMC (97 Central Ave\, Ocean View\, DE 19970).
LOCATION:102 Central Avenue\, Suite 3 Ocean View\, DE\, 19970
UID:e.2126.26191
SEQUENCE:3
DTSTAMP:20260420T213535Z
URL:http://business.thequietresorts.com/events/details/nally-homes-grand-opening-ribbon-cutting-and-happy-hour-26191
END:VEVENT

END:VCALENDAR
