BEGIN:VCALENDAR
VERSION:2.0
PRODID:-//ChamberMaster//Event Calendar 2.0//EN
METHOD:PUBLISH
X-PUBLISHED-TTL:P3D
REFRESH-INTERVAL:P3D
CALSCALE:GREGORIAN
BEGIN:VEVENT
DTSTART:20240330T230000Z
DTEND:20240331T010000Z
X-MICROSOFT-CDO-ALLDAYEVENT:FALSE
SUMMARY:Mystical Moments: Drag Bingo with Kadet Kelly at Dickens Parlour
DESCRIPTION:Join Kadet Kelly for a dazzling combination of enchantment and all things fabulous\, where you can experience the thrill of Bingo with a swish of DRAG MAGIC! Get ready to Sashay\, Shante\, and WIN BIG!
X-ALT-DESC;FMTTYPE=text/html:<span style="color:rgb(108\, 117\, 125)\; font-family:helvetica\,arial\,sans-serif">Join Kadet Kelly for a dazzling combination of enchantment and all things fabulous\, where you can experience the thrill of Bingo with a swish of DRAG MAGIC! Get ready to Sashay\, Shante\, and WIN BIG!</span>
LOCATION:Dickens Parlour Theatre 31810 Good Earth Lane Ocean View\, DE 19970
UID:e.2126.28500
SEQUENCE:3
DTSTAMP:20260420T075029Z
URL:http://business.thequietresorts.com/events/details/mystical-moments-drag-bingo-with-kadet-kelly-at-dickens-parlour-28500
END:VEVENT

END:VCALENDAR
