BEGIN:VCALENDAR
VERSION:2.0
PRODID:-//ChamberMaster//Event Calendar 2.0//EN
METHOD:PUBLISH
X-PUBLISHED-TTL:P3D
REFRESH-INTERVAL:P3D
CALSCALE:GREGORIAN
BEGIN:VEVENT
DTSTART:20240509T223000Z
DTEND:20240510T010000Z
X-MICROSOFT-CDO-ALLDAYEVENT:FALSE
SUMMARY:Murder Take 2: Comedy Murder Mystery Dinner
DESCRIPTION:Prepare to be surrounded by gorgeous movie stars\, flamboyant directors\, and rich investors from the 1940s silver screen as Hollywood's famous screenwriter\, Sydney Bruhaha\, announces his newest film\, "Murder: Take Two!" Everything is glitz and glamour until a washed-up starlet winds up dead! \n\nMENU\n\nBeef Bourguignon served on Mashed Potatoes- Beef stew cooked in red wine\, with onions\, carrots\, garlic\, and mushrooms\, served on a bed of mashed potatoes
X-ALT-DESC;FMTTYPE=text/html:<p><span style="color:rgb(36\, 36\, 36)">Prepare to be surrounded by gorgeous movie stars\, flamboyant directors\, and rich investors from the 1940s silver screen as Hollywood&rsquo\;s famous screenwriter\, Sydney Bruhaha\, announces his newest film\, &ldquo\;Murder: Take Two!&rdquo\; Everything is glitz and glamour until a washed-up starlet winds up dead!&nbsp\;</span></p>\n\n<p><strong><u>MENU</u></strong></p>\n\n<p><span style="color:rgb(36\, 36\, 36)">Beef Bourguignon served on Mashed Potatoes- Beef stew cooked in red wine\, with onions\, carrots\, garlic\, and mushrooms\, served on a bed of mashed potatoes </span></p>\n
LOCATION:Dickens Parlour Theatre 31810 Good Earth Lane Ocean View\, DE 19970
UID:e.2126.28505
SEQUENCE:3
DTSTAMP:20260420T041822Z
URL:http://business.thequietresorts.com/events/details/murder-take-2-comedy-murder-mystery-dinner-28505
END:VEVENT

END:VCALENDAR
