BEGIN:VCALENDAR
VERSION:2.0
PRODID:-//ChamberMaster//Event Calendar 2.0//EN
METHOD:PUBLISH
X-PUBLISHED-TTL:P3D
REFRESH-INTERVAL:P3D
CALSCALE:GREGORIAN
BEGIN:VEVENT
DTSTART:20221212T140000Z
DTEND:20221212T144500Z
X-MICROSOFT-CDO-ALLDAYEVENT:FALSE
SUMMARY:Munchin' with Monkeys at Barn Hill Preserve
DESCRIPTION:Have you ever wondered what it's like to eat breakfast with a Spider Monkey?\n\n \n\nAt Munchin' With Monkeys\, you'll have the opportunity to watch and help feed our Spider Monkeys through enrichment exercises like puzzle feeders and stacking cups!\n\n \n\nGuests will be sat in small groups at our picnic tables and the monkeys' breakfast will be distributed among the tables.\n\nFor Ages 5+
X-ALT-DESC;FMTTYPE=text/html:<p class="font_8" style="margin: 0px\; padding: 0px\; border: 0px\; outline: 0px\; vertical-align: baseline\; background-image: initial\; background-position: initial\; background-size: initial\; background-repeat: initial\; background-attachment: initial\; background-origin: initial\; background-clip: initial\; pointer-events: auto\; font-size: 19px\; line-height: normal\; color: rgb(var(--color_15))\; text-align: center\;"><span style="font-size:14px\;"><span style="font-family:arial\;"><span style="margin: 0px\; padding: 0px\; border: 0px\; outline: 0px\; vertical-align: baseline\; background-image: initial\; background-position: initial\; background-size: initial\; background-repeat: initial\; background-attachment: initial\; background-origin: initial\; background-clip: initial\;">Have you ever wondered what it&#39\;s like to eat breakfast with a Spider Monkey?</span></span></span></p>\n\n<p class="font_8" style="margin: 0px\; padding: 0px\; border: 0px\; outline: 0px\; vertical-align: baseline\; background-image: initial\; background-position: initial\; background-size: initial\; background-repeat: initial\; background-attachment: initial\; background-origin: initial\; background-clip: initial\; pointer-events: auto\; font-size: 19px\; line-height: normal\; color: rgb(var(--color_15))\; text-align: center\;"><span style="font-size:14px\;"><span style="font-family:arial\;"><span style="margin: 0px\; padding: 0px\; border: 0px\; outline: 0px\; vertical-align: baseline\; background-image: initial\; background-position: initial\; background-size: initial\; background-repeat: initial\; background-attachment: initial\; background-origin: initial\; background-clip: initial\;">&#8203\;</span></span></span></p>\n\n<p class="font_8" style="margin: 0px\; padding: 0px\; border: 0px\; outline: 0px\; vertical-align: baseline\; background-image: initial\; background-position: initial\; background-size: initial\; background-repeat: initial\; background-attachment: initial\; background-origin: initial\; background-clip: initial\; pointer-events: auto\; font-size: 19px\; line-height: normal\; color: rgb(var(--color_15))\; text-align: center\;"><span style="font-size:14px\;"><span style="font-family:arial\;"><span style="margin: 0px\; padding: 0px\; border: 0px\; outline: 0px\; vertical-align: baseline\; background-image: initial\; background-position: initial\; background-size: initial\; background-repeat: initial\; background-attachment: initial\; background-origin: initial\; background-clip: initial\;">At Munchin&#39\; With Monkeys\, you&#39\;ll have the opportunity to watch and help feed our Spider Monkeys through enrichment exercises like puzzle feeders and stacking cups!</span></span></span></p>\n\n<p class="font_8" style="margin: 0px\; padding: 0px\; border: 0px\; outline: 0px\; vertical-align: baseline\; background-image: initial\; background-position: initial\; background-size: initial\; background-repeat: initial\; background-attachment: initial\; background-origin: initial\; background-clip: initial\; pointer-events: auto\; font-size: 19px\; line-height: normal\; color: rgb(var(--color_15))\; text-align: center\;">&nbsp\;</p>\n\n<p class="font_8" style="margin: 0px\; padding: 0px\; border: 0px\; outline: 0px\; vertical-align: baseline\; background-image: initial\; background-position: initial\; background-size: initial\; background-repeat: initial\; background-attachment: initial\; background-origin: initial\; background-clip: initial\; pointer-events: auto\; font-size: 19px\; line-height: normal\; color: rgb(var(--color_15))\; text-align: center\;"><span style="font-size:14px\;"><span style="font-family:arial\;"><span style="margin: 0px\; padding: 0px\; border: 0px\; outline: 0px\; vertical-align: baseline\; background-image: initial\; background-position: initial\; background-size: initial\; background-repeat: initial\; background-attachment: initial\; background-origin: initial\; background-clip: initial\;"><span style="margin: 0px\; padding: 0px\; border: 0px\; outline: 0px\; vertical-align: baseline\; background-image: initial\; background-position: initial\; background-size: initial\; background-repeat: initial\; background-attachment: initial\; background-origin: initial\; background-clip: initial\;">Guests will be sat in small groups at our picnic tables and the monkeys&#39\; breakfast will be distributed among the tables.</span></span><br />\nFor Ages 5+</span></span></p>\n
LOCATION:Barnhill Preserve
UID:e.2126.24277
SEQUENCE:3
DTSTAMP:20260421T125124Z
URL:http://business.thequietresorts.com/events/details/munchin-with-monkeys-at-barn-hill-preserver-12-12-2022-24277
END:VEVENT

END:VCALENDAR
