BEGIN:VCALENDAR
VERSION:2.0
PRODID:-//ChamberMaster//Event Calendar 2.0//EN
METHOD:PUBLISH
X-PUBLISHED-TTL:P3D
REFRESH-INTERVAL:P3D
CALSCALE:GREGORIAN
BEGIN:VEVENT
DTSTART:20230826T140000Z
DTEND:20230826T150000Z
X-MICROSOFT-CDO-ALLDAYEVENT:FALSE
SUMMARY:Ms. Niki's Music Class
DESCRIPTION:ADMISSION: FREE\n\n\nNicole "Ms. Niki" Addison is a classically trained singer/songwriter from Washington\, D.C.   One of family music's most compelling and talented new emerging artists\, Ms. Niki is a member of the GRAMMY-nominated 1 Tribe Collective's All One Tribe album featuring "Rainbow."  \n\n \n\nMs. Niki's Music Class is where joy meets learning! Join music edutainer\, Ms. Niki on a colorful adventure through upbeat original songs and classics with a twist you've never heard before.
X-ALT-DESC;FMTTYPE=text/html:<h6>ADMISSION: FREE</h6>\n\n<div>\n<div>Nicole &ldquo\;Ms. Niki&rdquo\; Addison&nbsp\;is a&nbsp\;classically trained&nbsp\;singer/songwriter&nbsp\;from&nbsp\;Washington\, D.C.&nbsp\; &nbsp\;One of family music&#39\;s&nbsp\;most compelling and talented new emerging artists\,&nbsp\;Ms. Niki is a member of the&nbsp\;GRAMMY-nominated&nbsp\;<a href="https://nam04.safelinks.protection.outlook.com/?url=https%3A%2F%2Fwww.canva.com%2Flink%3Ftarget%3Dhttp%253A%252F%252F1tribecollective.com%26design%3DDAE9-cwqnfc%26accessRole%3Dviewer%26linkSource%3Ddocument&amp\;data=05%7C01%7Calyson%40freemanfoundation.org%7Ce4c11c2563564c8be10f08db2bdccc12%7Cb710dbd3e3b44a55a62f0fafb834cd38%7C0%7C0%7C638151999550664634%7CUnknown%7CTWFpbGZsb3d8eyJWIjoiMC4wLjAwMDAiLCJQIjoiV2luMzIiLCJBTiI6Ik1haWwiLCJXVCI6Mn0%3D%7C3000%7C%7C%7C&amp\;sdata=6t9wnco%2FmBQ5pdlp4ZXyX39XPsP1g1ZX3vmfvWGW10o%3D&amp\;reserved=0" rel="noopener nofollow" style="box-sizing: border-box\; background-color: transparent\; color: rgb(191\, 88\, 0)\; transition: all 0.3s ease 0s\; font-weight: 700\;" target="_blank" title="Original URL:\nhttps://www.canva.com/link?target=http%3A%2F%2F1tribecollective.com&amp\;design=DAE9-cwqnfc&amp\;accessRole=viewer&amp\;linkSource=document\n\nClick to follow link.">1 Tribe Collective</a>&#39\;s&nbsp\;<a href="https://nam04.safelinks.protection.outlook.com/?url=https%3A%2F%2F1tribecollective.com%2F&amp\;data=05%7C01%7Calyson%40freemanfoundation.org%7Ce4c11c2563564c8be10f08db2bdccc12%7Cb710dbd3e3b44a55a62f0fafb834cd38%7C0%7C0%7C638151999550664634%7CUnknown%7CTWFpbGZsb3d8eyJWIjoiMC4wLjAwMDAiLCJQIjoiV2luMzIiLCJBTiI6Ik1haWwiLCJXVCI6Mn0%3D%7C3000%7C%7C%7C&amp\;sdata=P7oaCIE%2Fua7ItcFRRr739a5tFAkiajsG49TJIg43btQ%3D&amp\;reserved=0" rel="noopener nofollow" style="box-sizing: border-box\; background-color: transparent\; color: rgb(191\, 88\, 0)\; transition: all 0.3s ease 0s\; font-weight: 700\;" target="_blank">All One Tribe</a>&nbsp\;album featuring &quot\;<a href="https://nam04.safelinks.protection.outlook.com/?url=https%3A%2F%2Fyoutu.be%2Fa5QLg1hvpy4&amp\;data=05%7C01%7Calyson%40freemanfoundation.org%7Ce4c11c2563564c8be10f08db2bdccc12%7Cb710dbd3e3b44a55a62f0fafb834cd38%7C0%7C0%7C638151999550664634%7CUnknown%7CTWFpbGZsb3d8eyJWIjoiMC4wLjAwMDAiLCJQIjoiV2luMzIiLCJBTiI6Ik1haWwiLCJXVCI6Mn0%3D%7C3000%7C%7C%7C&amp\;sdata=ZdU05YqXEVQloQXPH2j7ZhCutn72aCuvhOQaVZTxEOg%3D&amp\;reserved=0" rel="noopener nofollow" style="box-sizing: border-box\; background-color: transparent\; color: rgb(191\, 88\, 0)\; transition: all 0.3s ease 0s\; font-weight: 700\;" target="_blank" title="Original URL:\nhttps://youtu.be/a5QLg1hvpy4\n\nClick to follow link.">Rainbow</a>.&quot\;&nbsp\;&nbsp\;</div>\n\n<div>&nbsp\;</div>\n\n<div>Ms. Niki&#39\;s Music Class is where joy meets learning! Join music edutainer\, Ms. Niki on a colorful adventure through upbeat original songs and classics with a twist you&#39\;ve never heard before.&nbsp\;&nbsp\;</div>\n</div>\n
LOCATION:Freeman Arts Pavilion a program of the Joshua M. Freeman Foundation is a champion of the arts on Delmarva\, providing diverse arts performances as well as arts access programs for local schools and the community at large. From June-September the Freeman Arts Pavilion is an open-air performance space showcasing music\, dance\, comedy\, theater\, children's programs\, and free events.
UID:e.2126.26129
SEQUENCE:3
DTSTAMP:20260420T212319Z
URL:http://business.thequietresorts.com/events/details/ms-niki-s-music-class-26129
END:VEVENT

END:VCALENDAR
