BEGIN:VCALENDAR
VERSION:2.0
PRODID:-//ChamberMaster//Event Calendar 2.0//EN
METHOD:PUBLISH
X-PUBLISHED-TTL:P3D
REFRESH-INTERVAL:P3D
CALSCALE:GREGORIAN
BEGIN:VEVENT
DTSTART:20220916T231500Z
DTEND:20220917T013000Z
X-MICROSOFT-CDO-ALLDAYEVENT:FALSE
SUMMARY:Movie on the Bethny Bandstand - Jungle Cruise
DESCRIPTION:In the Amazon\, riverboat captain Frank Wolff encounters English researcher Dr. Lily Houghton\, who looks to study a fabled tree with healing properties. As Frank and Lily navigate the risks of the rainforest\, they cross a cohort of foes determined to use the tree for nefarious purposes. Inspired by the theme park ride at Disneyland.
X-ALT-DESC;FMTTYPE=text/html:In the Amazon\, riverboat captain Frank Wolff encounters English researcher Dr. Lily Houghton\, who looks to study a fabled tree with healing properties. As Frank and Lily navigate the risks of the rainforest\, they cross a cohort of foes determined to use the tree for nefarious purposes. Inspired by the theme park ride at Disneyland.
LOCATION:Bethany Beach Bandstand
UID:e.2126.24168
SEQUENCE:3
DTSTAMP:20260421T173520Z
URL:http://business.thequietresorts.com/events/details/movie-on-the-bethny-bandstand-jungle-cruise-24168
END:VEVENT

END:VCALENDAR
