BEGIN:VCALENDAR
VERSION:2.0
PRODID:-//ChamberMaster//Event Calendar 2.0//EN
METHOD:PUBLISH
X-PUBLISHED-TTL:P3D
REFRESH-INTERVAL:P3D
CALSCALE:GREGORIAN
BEGIN:VEVENT
DTSTART:20200702T200000Z
DTEND:20200702T230000Z
X-MICROSOFT-CDO-ALLDAYEVENT:FALSE
SUMMARY:Mountaire Chicken Truck Sale Volunteer Opportunity
DESCRIPTION:Mountaire Farms and the Bethany-Fenwick Area Chamber of Commerce are teaming up to host the Mountaire Chicken Truck Sale on Thursday\, July 2 from 4:00 pm - 7:00 pm and rely on the support of volunteers to help events run smoothly. This event will require manual labor\, you must be able to lift 40 lbs throughout the duration of your shift and we are requesting a minimum of 12 volunteers to help this event run smoothly. For more information on the event\, please click here.\n\n	All guests must pre-order their purchase by Monday\, June 29 and payment by credit card is required\n	Onsite sales WILL NOT be available\n	If a guest doesn't have their receipt and/or cannot find their confirmation email\, they must confirm their name\, email and phone number that was used during the registration. If they are unable to confirm the correct information\, we won't be able to give them their purchase\n	All purchases are final\, no refunds will be provided\n\nPaper Volunteer Registration Form\n\nIf you would like to fill out a paper volunteer registration form\, please click here.\n\n\n\nAvailable Shifts\n\n\n	3:45 pm - 5:30 pm\n	5:30 pm - 7:00 pm\n	3:45 pm - 7:00 pm\n\n\n\n\nVehicle Loading Instructions\n\nAll customers must present a receipt confirming their purchase. The receipt can either be a paper receipt or a receipt on their electronic device. Once the receipt has been confirmed\, we can load their vehicle with the product that they purchased. We ask everyone that purchases the product to ensure their is enough room in their vehicle for their whole order. Guests should remain in their vehicles throughout the process.\n\n\n\nFAQ's\n\nFor a list of frequently asked questions about the event\, please click here\n\n\n\nThe Harry K Foundation\n\nThe Bethany-Fenwick Area Chamber of Commerce has partnered with our friends at the Harry K Foundation to make them the beneficiary of this event. Their mission is to end childhood hunger in the state of Delaware. 100% of all donations to their organization are used to help alleviate food insecurity throughout Delaware. 10% of all event proceeds will be donated to the Harry K Foundation and all guests have the option to donate their order to the Harry K Foundation during their registration.
X-ALT-DESC;FMTTYPE=text/html:<span style="font-family: arial\;"><span style="font-size: 14px\;">Mountaire Farms and the Bethany-Fenwick Area Chamber of Commerce are teaming up to host the Mountaire Chicken Truck Sale on Thursday\, July 2 from 4:00 pm - 7:00 pm and rely on the support of volunteers to help events run smoothly. This event will require manual labor\, you must be able to lift 40 lbs throughout the duration of your shift and we are requesting a minimum of 12 volunteers to help this event run smoothly. For more information on the event\, please click <strong><a href="http://business.bethany-fenwick.org/events/details/mountaire-chicken-truck-sale-21660" target="_blank"><font color="#0066cc">here</font></a></strong>.</span></span>\n<ul>\n	<li><span style="font-family: arial\;"><span style="font-size: 14px\;">All guests must pre-order their purchase by Monday\, June 29 and payment by credit card is required</span></span></li>\n	<li><span style="font-family: arial\;"><span style="font-size: 14px\;">Onsite sales <strong>WILL NOT </strong>be available</span></span></li>\n	<li><span style="font-family: arial\;"><span style="font-size: 14px\;">If a guest doesn&#39\;t have their receipt and/or cannot find their confirmation email\, they must confirm their name\, email and phone number that was used during the registration. If they are unable to confirm the correct information\, we won&#39\;t be able to give them their purchase</span></span></li>\n	<li><span style="font-family: arial\;"><span style="font-size: 14px\;"><strong><span style="color: rgb(255\, 0\, 0)\;">All purchases are final\, no refunds will be provided</span></strong></span></span></li>\n</ul>\n<span style="font-family: arial\;"><span style="font-size: 14px\;"><strong>Paper Volunteer Registration Form</strong><br />\nIf you would like to fill out a paper volunteer registration form\, please <strong><a href="https://chambermaster.blob.core.windows.net/userfiles/UserFiles/chambers/2126/File/Community_Events/Chicken_For_Everyone/VolunteerRegistrationPaperForm.pdf" target="_blank">click here</a></strong>.</span></span><br />\n<br />\n<span style="font-family: arial\;"><span style="font-size: 14px\;"><strong>Available Shifts</strong></span></span>\n\n<ul>\n	<li><span style="font-family: arial\;"><span style="font-size: 14px\;">3:45&nbsp\;pm - 5:30 pm</span></span></li>\n	<li><span style="font-family: arial\;"><span style="font-size: 14px\;">5:30 pm - 7:00 pm</span></span></li>\n	<li><span style="font-family: arial\;"><span style="font-size: 14px\;"><span style="font-family: arial\;"><span style="font-size: 14px\;">3:45&nbsp\;pm - 7:00 pm</span></span></span></span></li>\n</ul>\n\n<p><br />\n<span style="font-family: arial\;"><span style="font-size: 14px\;"><strong>Vehicle Loading Instructions</strong><br />\n<span style="font-family: arial\;"><span style="font-size: 14px\;">All customers must present a receipt confirming their purchase. The receipt can either be a paper receipt or a receipt on their electronic device. Once the receipt has been confirmed\, we can load their vehicle with the product that they purchased. We ask everyone that purchases the product to ensure their is enough room in their vehicle for their whole order. Guests should remain in their vehicles throughout the process.</span></span><br />\n<br />\n<strong><span style="font-family: arial\;"><span style="font-size: 14px\;">FAQ&#39\;s</span></span></strong><br />\n<span style="font-family: arial\;"><span style="font-size: 14px\;">For a list of frequently asked questions about the event\, please click <strong><a href="https://chambermaster.blob.core.windows.net/userfiles/UserFiles/chambers/2126/File/Community_Events/Chicken_For_Everyone/trucksaleFAQ1.pdf" target="_blank">here</a></strong></span></span><br />\n<br />\n<strong><span style="font-family: arial\;"><span style="font-size: 14px\;">The Harry K Foundation</span></span><br />\n<span style="text-align: left\; color: rgb(37\, 32\, 26)\; text-transform: none\; text-indent: 0px\; letter-spacing: normal\; font-family: arial\; font-size: 14px\; font-style: normal\; font-weight: 400\; word-spacing: 0px\; float: none\; display: inline !important\; white-space: normal\; orphans: 2\; widows: 2\; -webkit-text-stroke-width: 0px\; font-variant-ligatures: normal\; font-variant-caps: normal\; text-decoration-style: initial\; text-decoration-color: initial\;">The Bethany-Fenwick Area Chamber of Commerce has partnered with our friends at the Harry K Foundation to make them the beneficiary of this event. Their mission is to end childhood hunger in the state of Delaware. 100% of all donations to their organization are used to help alleviate food insecurity throughout Delaware. 10% of all event proceeds will be donated to the Harry K Foundation and all guests have the option to donate their order to the Harry K Foundation during their registration.</span></strong></span></span></p>\n
LOCATION:Hocker's Supermarket 695 Bethany Loop Bethany Beach\, DE 19930
UID:e.2126.21664
SEQUENCE:3
DTSTAMP:20260425T163636Z
URL:http://business.thequietresorts.com/events/details/mountaire-chicken-truck-sale-volunteer-opportunity-21664
END:VEVENT

END:VCALENDAR
