BEGIN:VCALENDAR
VERSION:2.0
PRODID:-//ChamberMaster//Event Calendar 2.0//EN
METHOD:PUBLISH
X-PUBLISHED-TTL:P3D
REFRESH-INTERVAL:P3D
CALSCALE:GREGORIAN
BEGIN:VEVENT
DTSTART:20240511T183000Z
DTEND:20240511T213000Z
X-MICROSOFT-CDO-ALLDAYEVENT:FALSE
SUMMARY:Mother's Day Mimosas & Muffins Workshop at Board & Brush
DESCRIPTION:Looking for a fun activity for Mother's Day? Join our most popular DIY workshop and create your own unique wood sign! Select a wood project from our gallery. We provide all the materials and instruct you step-by-step to create a beautiful piece for your home or for a gift. Mimosas and Muffins provided! \n\n\n\nChoose from a variety of paint and wood stain colors in the workshop. Pre-registration is required. We look forward to seeing you soon! \n\n\nhttps://boardandbrush.com/bethanybeach/events/05-11-2024-230pm-530pm/
X-ALT-DESC;FMTTYPE=text/html:<div>Looking for a fun activity for Mother&#39\;s Day? Join our most popular DIY workshop and create your own unique wood sign! Select a wood project from our gallery. We provide all the materials and instruct you step-by-step to create a beautiful piece for your home or for a gift. Mimosas and Muffins provided!&nbsp\;<br />\n<br />\nChoose from a variety of paint and wood stain colors in the workshop. Pre-registration is required. We look forward to seeing you soon!&nbsp\;</div>\n<br />\nhttps://boardandbrush.com/bethanybeach/events/05-11-2024-230pm-530pm/
LOCATION:Board & Brush 30447 Cedar Neck Rd Unit 2 Ocean View\, DE 19970
UID:e.2126.29234
SEQUENCE:3
DTSTAMP:20260420T042158Z
URL:http://business.thequietresorts.com/events/details/mother-s-day-mimosas-muffins-workshop-at-board-brush-05-11-2024-29234
END:VEVENT

END:VCALENDAR
