BEGIN:VCALENDAR
VERSION:2.0
PRODID:-//ChamberMaster//Event Calendar 2.0//EN
METHOD:PUBLISH
X-PUBLISHED-TTL:P3D
REFRESH-INTERVAL:P3D
CALSCALE:GREGORIAN
BEGIN:VEVENT
DTSTART:20230512T140000Z
DTEND:20230512T160000Z
X-MICROSOFT-CDO-ALLDAYEVENT:FALSE
SUMMARY:Mother’s Day Gift: A Container That Keeps Giving with Alison Webb Schweiger
DESCRIPTION:Give your mom a custom design in a gorgeous pot\, filled with colorful flowers that are continuously blooming all summer long to keep the pollinators coming back. Feel free to include fragrant herbs so that your pot is not only bursting with color but a source for fresh culinary herbs for summer recipes.\n\nBring your own pot of at least 12 inches in diameter to provide enough root space and for watering (but not too big as it has to fit in your car once completed!) You can purchase a pot at the garden center if you wish. Fill your pot with a unique combination of spring bloomers from our nursery. 10% off all plants used in the class.\n\nclick here for tickets!
X-ALT-DESC;FMTTYPE=text/html:<p>Give your mom a custom design in a gorgeous pot\, filled with colorful flowers that are continuously blooming all summer long to keep the pollinators coming back. Feel free to include fragrant herbs so that your pot is not only bursting with color but a source for fresh culinary herbs for summer recipes.</p>\n\n<p>Bring your own pot of at least 12 inches in diameter to provide enough root space and for watering (but not too big as it has to fit in your car once completed!) You can purchase a pot at the garden center if you wish. Fill your pot with a unique combination of spring bloomers from our nursery. 10% off all plants used in the class.</p>\n\n<p><a href="https://www.eventbrite.com/e/mothers-day-gift-a-container-that-keeps-giving-with-alison-webb-schweiger-tickets-597862421597">click here for tickets!</a></p>\n\n<p>&nbsp\;</p>\n
LOCATION:Inland Bays Garden Center 38320 Muddy Neck Road Frankford\, DE 19945
UID:e.2126.25560
SEQUENCE:3
DTSTAMP:20260421T023639Z
URL:http://business.thequietresorts.com/events/details/mother-s-day-gift-a-container-that-keeps-giving-with-alison-webb-schweiger-25560
END:VEVENT

END:VCALENDAR
