BEGIN:VCALENDAR
VERSION:2.0
PRODID:-//ChamberMaster//Event Calendar 2.0//EN
METHOD:PUBLISH
X-PUBLISHED-TTL:P3D
REFRESH-INTERVAL:P3D
CALSCALE:GREGORIAN
BEGIN:VEVENT
DTSTART:20210509T130000Z
DTEND:20210509T160000Z
X-MICROSOFT-CDO-ALLDAYEVENT:FALSE
SUMMARY:Mother's Day Brunch
DESCRIPTION:Mother's Day Brunch\n\nSunday\, May 9\n\n9:00am - 12:00pm\n\n \n\nDining is on a first come\, first serve walk-in basis only.\n\n\n\nMENU\n\nAll served with breakfast potatoes\n\n\n\nBiscuits & Sausage Gravy - $12\n\nHomemade Cinnamon Buns - $8\n\nPancakes - Plain or chocolate chip - $10\n\nOmelet Your Way - Choice of cheese\, meat and veggies (up to 4 fillings) - $12\n\nBuild Your Own Breakfast Sandwich - Choice of bread\, cheese\, meat\, egg style - $12\n\nEggs Your Way - 2 eggs your way\, choice of meat\, toast (white or wheat) - $10\n\nBreakfast Burrito - Soft flour tortilla loaded with scrambled eggs\, cheddar\, bacon\, sausage \n\nand salsa - $12\n\nCount de Monte Cristo - French Toast loaded with ham\, turkey\, swiss and raspberry preserves - $12\n\nHangover Burger - Fresh burger grilled to temp topped with cheddar\, bacon\, sausage and a \n\nfried egg - $12\n\nLoaded Tots - Golden fried tater tots topped with fried eggs\, cheese\, bacon\, jalapenos and scallions with a drizzle \n\nof hot sauce - $10\n\nTaco Locos - House carnitas\, fried eggs\, bacon\, salsa\, cilantro\, and cheddar jack cheese - $12\n\nBreakfast Fajitas - Sizzling platter of breakfast taters\, andouille sausage\, ham\, bacon\, peppers\, onions\, cheddar and\n\nscrambled eggs with warm tortillas - $14\n\nTurkey Lurkey - Open faced turkey sandwich with honey mustard\, tomatoes\, bacon and\n\ncheddar cheese - $12\n\n\n\n\n\nDrink Specials\n\n\n\nMimosa's\n\nBloody Mary's\n\nCrushes\n\nMargaritas
X-ALT-DESC;FMTTYPE=text/html:<h1 style="text-align:center"><span style="font-family:comic sans ms"><span style="color:#ff3399"><span style="font-size:36px"><strong>Mother&#39\;s Day Brunch</strong></span></span></span></h1>\n\n<div style="text-align:center"><span style="font-size:28px"><span style="font-family:comic sans ms"><strong><span style="color:#ff66cc">Sunday\, May 9</span><br />\n<span style="font-size:24px"><span style="font-size:20px"><span style="font-family:arial\,helvetica\,sans-serif">9:00am - 12:00pm</span></span></span></strong></span></span><br />\n&nbsp\;</div>\n\n<div style="text-align:center"><span style="font-family:arial\,helvetica\,sans-serif"><span style="font-size:14px">Dining is on a first come\, first serve walk-in basis only.</span></span><br />\n<br />\n<em><span style="font-size:20px"><span style="color:#cc33ff"><strong>MENU</strong></span></span></em><br />\nAll served with breakfast potatoes</div>\n\n<div><br />\n<span style="font-size:14px"><em><span style="color:#000000"><strong>Biscuits &amp\; Sausage Gravy</strong></span></em> - $12<br />\n<em><strong>Homemade Cinnamon Buns</strong></em> - $8<br />\n<em><strong>Pancakes</strong></em> - Plain or chocolate chip - $10<br />\n<em><strong>Omelet Your Way</strong></em> - Choice of cheese\, meat and veggies (up to 4 fillings) - $12<br />\n<em><strong>Build Your Own Breakfast Sandwich </strong></em>- Choice of bread\, cheese\, meat\, egg style - $12<br />\n<em><strong>Eggs Your Way</strong></em> - 2 eggs your way\, choice of meat\, toast (white or wheat) - $10<br />\n<em><strong>Breakfast Burrito</strong></em> - Soft flour tortilla loaded with scrambled eggs\, cheddar\, bacon\, sausage </span></div>\n\n<div style="margin-left:40px">and salsa - $12</div>\n\n<div><span style="font-size:14px"><em><strong>Count de Monte Cristo</strong></em> - French Toast loaded with ham\, turkey\, swiss and raspberry preserves - $12<br />\n<em><strong>Hangover Burger </strong></em>- Fresh burger grilled to temp topped with cheddar\, bacon\, sausage and a </span></div>\n\n<div style="margin-left:40px">fried egg - $12</div>\n\n<div><span style="font-size:14px"><em><strong>Loaded Tots</strong></em> - Golden fried tater tots topped with fried eggs\, cheese\, bacon\, jalapenos and scallions with a drizzle </span></div>\n\n<div style="margin-left:40px"><span style="font-size:14px">of hot sauce - $10</span></div>\n\n<div><span style="font-size:14px"><em><strong>Taco Locos </strong></em>- House carnitas\, fried eggs\, bacon\, salsa\, cilantro\, and cheddar jack cheese - $12</span></div>\n\n<div><em><strong>Breakfast Fajitas</strong></em> - Sizzling platter of breakfast taters\, andouille sausage\, ham\, bacon\, peppers\, onions\, cheddar and</div>\n\n<div style="margin-left:40px">scrambled eggs with warm tortillas - $14</div>\n\n<div><span style="font-size:14px"><em><strong>Turkey Lurkey</strong></em> - Open faced turkey sandwich with honey mustard\, tomatoes\, bacon and</span></div>\n\n<div style="margin-left:40px"><span style="font-size:14px">cheddar cheese - $12</span></div>\n\n<div style="text-align:center"><br />\n<br />\n<em><span style="font-family:arial\,helvetica\,sans-serif"><strong><span style="color:#cc00ff"><span style="font-size:20px">Drink Specials</span></span></strong></span></em><br />\n<br />\n<span style="font-family:arial\,helvetica\,sans-serif"><em><span style="font-size:16px"><strong>Mimosa&#39\;s<br />\nBloody Mary&#39\;s<br />\nCrushes<br />\nMargaritas</strong></span></em></span><br />\n<br />\n&nbsp\;</div>\n
LOCATION:The Salted Rim Margarita Bar & Grille 35553 Atlantic Avenue Millville\, DE 19967 302-537-7373
UID:e.2126.22011
SEQUENCE:3
DTSTAMP:20260424T203747Z
URL:http://business.thequietresorts.com/events/details/mother-s-day-brunch-22011
END:VEVENT

END:VCALENDAR
