BEGIN:VCALENDAR
VERSION:2.0
PRODID:-//ChamberMaster//Event Calendar 2.0//EN
METHOD:PUBLISH
X-PUBLISHED-TTL:P3D
REFRESH-INTERVAL:P3D
CALSCALE:GREGORIAN
BEGIN:VEVENT
DTSTART:20210617T140000Z
DTEND:20210617T153000Z
X-MICROSOFT-CDO-ALLDAYEVENT:FALSE
SUMMARY:Mini Workshop: Landscaping with Drought Tolerant Plants
DESCRIPTION:What is water wise gardening known as xeriscaping? Join us for the next in our series of Mini Workshops as we explore how you can reduce and limit your use of water in garden design\, plant choice\, and good delivery methods to give you a beautiful and water efficient garden. After a short lecture take a tour of Inland Bays Garden Center and discover the drought tolerant plants perfect for Coastal Delaware. $10 per person. Drop-ins welcome. Reserve your spot online HERE.
X-ALT-DESC;FMTTYPE=text/html:<span style="font-size:14px\;"><span style="font-family:arial\;">What is water wise gardening known as xeriscaping? Join us for the next in our series of Mini Workshops as we explore how you can reduce and limit your use of water in garden design\, plant choice\, and good delivery methods to give you a beautiful and water efficient garden. After a short lecture take a tour of Inland Bays Garden Center and discover the drought tolerant plants perfect for Coastal Delaware. $10 per person. Drop-ins welcome. Reserve your spot online <strong><a href="https://www.inlandbaysgardencenter.com/events/mini-workshop-landscaping-with-drought-tolerant-plants/" target="_blank">HERE</a></strong>.</span></span>
LOCATION:Inland Bays Garden Center 38320 Muddy Neck Rd Frankford\, DE 19945
UID:e.2126.22401
SEQUENCE:3
DTSTAMP:20260424T203745Z
URL:http://business.thequietresorts.com/events/details/mini-workshop-landscaping-with-drought-tolerant-plants-22401
END:VEVENT

END:VCALENDAR
