BEGIN:VCALENDAR
VERSION:2.0
PRODID:-//ChamberMaster//Event Calendar 2.0//EN
METHOD:PUBLISH
X-PUBLISHED-TTL:P3D
REFRESH-INTERVAL:P3D
CALSCALE:GREGORIAN
BEGIN:VEVENT
DTSTART:20240315T230000Z
DTEND:20240316T000000Z
X-MICROSOFT-CDO-ALLDAYEVENT:FALSE
SUMMARY:Mind Mysteries with Dan Gaffney at Dickens Parlour Theatre
DESCRIPTION:Dan is a lifelong performer and host of his own award-winning radio show\, recently voted "Best Radio Personality" by the readers of Delaware Today Magazine. His live "Mind Mysteries" shows attempt feats that cannot be rehearsed or practiced in advance because he doesn't have YOUR mind in front of him yet! Be a part of the fun and interaction as Dan reveals audience thoughts\, cell phone numbers\, and pin numbers and engages in experiments of influence\, lie detecting\, and mysterious mind maneuvers.
X-ALT-DESC;FMTTYPE=text/html:<span style="color:rgb(0\, 0\, 0)\; font-family:tahoma\,geneva\,sans-serif\; font-size:14px">Dan is a lifelong performer and host of his own award-winning radio show\, recently voted &ldquo\;Best Radio Personality&rdquo\; by the readers of Delaware Today Magazine. His live &ldquo\;Mind Mysteries&rdquo\; shows attempt feats that cannot be rehearsed or practiced in advance&hellip\;because&hellip\;he doesn&rsquo\;t have&nbsp\;</span><span style="color:rgb(0\, 0\, 0)\; font-family:tahoma\,geneva\,sans-serif\; font-size:14px">YOUR</span><span style="color:rgb(0\, 0\, 0)\; font-family:tahoma\,geneva\,sans-serif\; font-size:14px">&nbsp\;mind in front of him&hellip\;yet!&nbsp\;Be a part of the fun and interaction as Dan reveals audience thoughts\, cell phone numbers\, and pin numbers and engages in experiments of influence\, lie detecting\, and mysterious mind maneuvers.</span>
LOCATION:Dickens Parlour Theatre 31810 Good Earth Lane Ocean View\, DE 19970
UID:e.2126.28497
SEQUENCE:3
DTSTAMP:20260420T074118Z
URL:http://business.thequietresorts.com/events/details/mind-mysteries-with-dan-gaffney-at-dickens-parlour-theatre-28497
END:VEVENT

END:VCALENDAR
