BEGIN:VCALENDAR
VERSION:2.0
PRODID:-//ChamberMaster//Event Calendar 2.0//EN
METHOD:PUBLISH
X-PUBLISHED-TTL:P3D
REFRESH-INTERVAL:P3D
CALSCALE:GREGORIAN
BEGIN:VEVENT
DTSTART:20231202T150000Z
DTEND:20231202T230000Z
X-MICROSOFT-CDO-ALLDAYEVENT:FALSE
SUMMARY:Millville Yuletide Festival
DESCRIPTION:Join us for the Yuletide Festival at Millville Evans Park on Saturday\, December 2\, 2023. \n\nGet into the holiday spirit and enjoy an old fashioned holiday festival fun for the whole family! Our Artisan Marketplace is inside the Community Center at Evans Park from 10AM - 3PM and features local artisan craft merchants selling one of a kind handmade gift items and crafts. Festivities outside in the park start at 3PM and include\, PHOTOS with SANTA\, ornament-making crafts for kids\, games and prizes and smores making stations. The Indian River High School Tri M Chorus and Band will lead us into the the Tree Lighting Ceremony at dusk. All events are free and open to the public. Food and hot chocolate will be available for purchase.
X-ALT-DESC;FMTTYPE=text/html:<h1><span style="font-family:arial"><span style="font-size:14px"><span style="color:#006400">Join us for the Yuletide Festival at Millville Evans Park on Saturday\, December 2\, 2023.&nbsp\;<br />\nGet into the holiday spirit and enjoy an old fashioned holiday festival fun for the whole family!&nbsp\;Our Artisan Marketplace is inside the Community Center at Evans Park from 10AM - 3PM and features local artisan craft merchants selling one of a kind handmade gift items and crafts. Festivities outside in the park start at 3PM and include\, PHOTOS with SANTA\, ornament-making crafts for kids\, games and prizes and smores making stations. The Indian River High School Tri M Chorus and Band will lead us into the the Tree Lighting Ceremony at dusk. All events are free and open to the public.&nbsp\;Food and hot chocolate will be available for purchase.</span></span></span></h1>\n
LOCATION:Evans Park 32517 Dukes Drive Millville\, DE 19967
UID:e.2126.24779
SEQUENCE:3
DTSTAMP:20260420T152428Z
URL:http://business.thequietresorts.com/events/details/millville-yuletide-festival-24779
END:VEVENT

END:VCALENDAR
