BEGIN:VCALENDAR
VERSION:2.0
PRODID:-//ChamberMaster//Event Calendar 2.0//EN
METHOD:PUBLISH
X-PUBLISHED-TTL:P3D
REFRESH-INTERVAL:P3D
CALSCALE:GREGORIAN
BEGIN:VEVENT
DTSTART:20220617T220000Z
DTEND:20220618T010000Z
X-MICROSOFT-CDO-ALLDAYEVENT:FALSE
SUMMARY:Millville Volunteer Fire Company Summer Concert Series- Taylor Knox
DESCRIPTION:Join the Millville Volunteer Fire Company on Friday\, June 17\, at Evans Park for the first of their Summer Concert Series featuring Taylor Knox. Food and tasty treats will be provided by the Hocker's BBQ Food Truck and Kona Ice\, along with drinks by Banks Wines & Spirits. Tickets will also be available at the Millville Volunteer Fire Company after 1:00 pm on June 17 and at the door.\n\n\n\nAdditional Shows\n\nFriday\, July 15: Dustin Showers Band\n\nFriday\, August 19: Drake Burd\n\n\n\nTicket Prices\n\nSeason Pass: $55/person\n\nStandard Tickets: $20\n\nKids (6-12): $10\n\nKids (5 & under): Free
X-ALT-DESC;FMTTYPE=text/html:<span style="font-family:arial\;"><span style="font-size:14px\;">Join the Millville Volunteer Fire Company on Friday\, June 17\, at Evans Park for the first of their Summer Concert Series featuring Taylor Knox. Food and tasty treats will be provided by the Hocker&#39\;s BBQ Food Truck and Kona Ice\, along with drinks by Banks Wines &amp\; Spirits. Tickets will also be available at the Millville Volunteer Fire Company after 1:00 pm on June 17 and at the door.<br />\n<br />\n<strong>Additional Shows</strong><br />\nFriday\, July 15: <a href="https://business.bethany-fenwick.org/events/details/millville-volunteer-fire-company-summer-concert-series-dustin-showers-band-23630" target="_blank">Dustin Showers Band</a><br />\nFriday\, August 19: <a href="https://business.bethany-fenwick.org/events/details/millville-volunteer-fire-company-summer-concert-series-drake-burd-23631" target="_blank">Drake Burd</a><br />\n<br />\nTicket Prices<br />\nSeason Pass: $55/person<br />\nStandard Tickets: $20<br />\nKids (6-12): $10<br />\nKids (5 &amp\; under): Free</span></span>
LOCATION:Evans Park 32517 Dukes Dr Millville\, DE 19967
UID:e.2126.23629
SEQUENCE:3
DTSTAMP:20260422T001300Z
URL:http://business.thequietresorts.com/events/details/millville-volunteer-fire-company-summer-concert-series-taylor-knox-23629
END:VEVENT

END:VCALENDAR
