BEGIN:VCALENDAR
VERSION:2.0
PRODID:-//ChamberMaster//Event Calendar 2.0//EN
METHOD:PUBLISH
X-PUBLISHED-TTL:P3D
REFRESH-INTERVAL:P3D
CALSCALE:GREGORIAN
BEGIN:VEVENT
DTSTART:20220715T220000Z
DTEND:20220716T010000Z
X-MICROSOFT-CDO-ALLDAYEVENT:FALSE
SUMMARY:Millville Volunteer Fire Company Summer Concert Series- Dustin Showers Band
DESCRIPTION:Join the Millville Volunteer Fire Company on Friday\, July 15\, at Evans Park for their Summer Concert Series featuring the Dustin Showers Band. Food and tasty treats will be provided by the Hocker's BBQ Food Truck and Kona Ice\, along with drinks by Banks Wines & Spirits.\n\n\n\nAdditional Shows\n\nFriday\, June 17: Taylor Knox\n\nFriday\, August 19: Drake Burd\n\n\n\nTicket Prices\n\nSeason Pass: $55/person\n\nStandard Tickets: $20\n\nKids (6-12): $10\n\nKids (5 & under): Free\n\n\n\n*Tickets can be purchased at the gate
X-ALT-DESC;FMTTYPE=text/html:<span style="font-family:arial\;"><span style="font-size:14px\;">Join the Millville Volunteer Fire Company on Friday\, July 15\, at Evans Park for their Summer Concert Series featuring the Dustin Showers Band. Food and tasty treats will be provided by the Hocker&#39\;s BBQ Food Truck and Kona Ice\, along with drinks by Banks Wines &amp\; Spirits.<br />\n<br />\n<strong>Additional Shows</strong><br />\nFriday\, June 17: <a href="https://business.bethany-fenwick.org/events/details/millville-volunteer-fire-company-summer-concert-series-taylor-knox-23629" target="_blank">Taylor Knox</a><br />\nFriday\, August 19: <a href="https://business.bethany-fenwick.org/events/details/millville-volunteer-fire-company-summer-concert-series-drake-burd-23631" target="_blank">Drake Burd</a><br />\n<br />\nTicket Prices<br />\nSeason Pass: $55/person<br />\nStandard Tickets: $20<br />\nKids (6-12): $10<br />\nKids (5 &amp\; under): Free</span></span><br />\n<br />\n<strong>*Tickets can be purchased at the gate</strong>
LOCATION:Evans Park 32517 Dukes Dr Millville\, DE 19967
UID:e.2126.23630
SEQUENCE:3
DTSTAMP:20260421T211424Z
URL:http://business.thequietresorts.com/events/details/millville-volunteer-fire-company-summer-concert-series-dustin-showers-band-23630
END:VEVENT

END:VCALENDAR
