BEGIN:VCALENDAR
VERSION:2.0
PRODID:-//ChamberMaster//Event Calendar 2.0//EN
METHOD:PUBLISH
X-PUBLISHED-TTL:P3D
REFRESH-INTERVAL:P3D
CALSCALE:GREGORIAN
BEGIN:VEVENT
DTSTART:20221016T150000Z
DTEND:20221016T190000Z
X-MICROSOFT-CDO-ALLDAYEVENT:FALSE
SUMMARY:Millville Volunteer Fire Company Renovation/Expansion Ribbon Cutting
DESCRIPTION:Join the Millville Volunteer Fire Company on Sunday\, October 16th as they celecbrate the Grand Opening and Ribbon Cutting for thier newly renovated Station 1 Fire Department.  The renovations include a new EMT section for thier career staff. \n\n\n\nStop in on Sunday\, October 16th for a tour of the expansion\, enter the raffle to win door prizes and enjoy refreshments provided by the Auxiliary.  There will also be kids activities\,  inflatables and music by Drake Burd.
X-ALT-DESC;FMTTYPE=text/html:<span style="font-family: verdana\; box-sizing: content-box\; inset: auto\; clear: none\; color: rgb(37\, 32\, 26)\; content: normal\; direction: inherit\; empty-cells: show\; font-variant-numeric: inherit\; font-variant-east-asian: inherit\; font-stretch: inherit\; font-size: 14px\; line-height: inherit\; margin: 0px\; max-height: none\; max-width: none\; min-height: initial\; min-width: initial\; opacity: 1\; outline-offset: 0px\; overflow: visible\; padding: 0px\; position: static\; resize: none\; table-layout: auto\; text-overflow: clip\; vertical-align: baseline\; visibility: inherit\; word-break: inherit\; overflow-wrap: inherit\; z-index: auto\; background: none rgb(255\, 255\, 255)\; border-width: initial\; border-style: none\; border-color: initial\; border-collapse: separate\; border-image: none 100% 1 0 / 1 / 0 stretch\; border-radius: 0px\; height: auto\; width: auto\; box-shadow: none\;">Join the Millville Volunteer Fire Company on Sunday\, October 16th as they celecbrate the Grand Opening and Ribbon Cutting for thier newly renovated Station 1 Fire Department.&nbsp\; The renovations include a new EMT section for thier career staff.&nbsp\;<br />\n<br />\nStop in on Sunday\, October 16th for a tour of the expansion\, enter the raffle to win door prizes and enjoy refreshments provided by the Auxiliary.&nbsp\; There will also be kids activities\,&nbsp\; inflatables and music by Drake Burd.<br />\n&nbsp\;</span>
LOCATION:Millville Volunteer Fire Company 35554 Atlantic Ave. Millville\, DE 19966
UID:e.2126.24086
SEQUENCE:3
DTSTAMP:20260421T173628Z
URL:http://business.thequietresorts.com/events/details/millville-volunteer-fire-company-renovation-expansion-ribbon-cutting-24086
END:VEVENT

END:VCALENDAR
