BEGIN:VCALENDAR
VERSION:2.0
PRODID:-//ChamberMaster//Event Calendar 2.0//EN
METHOD:PUBLISH
X-PUBLISHED-TTL:P3D
REFRESH-INTERVAL:P3D
CALSCALE:GREGORIAN
BEGIN:VEVENT
DTSTART:20231028T190000Z
DTEND:20231028T210000Z
X-MICROSOFT-CDO-ALLDAYEVENT:FALSE
SUMMARY:Millville Trail of Treats at Evans Park
DESCRIPTION:Town of Millville Trail of Treats at Evans Park\, Saturday October 28\, 3PM - 5PM. Trick or Treating on the trail at Evans Park. Games\, prizes\, food & fun for children! Families and businesses are invited to set up a table or tent on the trail at Evans Park to hand out treats to local children in a safe and fun environment! Decorate your space and win a prize! \n\n\n\nNo fee to set up a table\, but must be pre-registered.\n\n\n\nDownload form here: https://millville.delaware.gov/event/trail-of-treats/
X-ALT-DESC;FMTTYPE=text/html:Town of Millville Trail of Treats at Evans Park\, Saturday October 28\, 3PM - 5PM. Trick or Treating on the trail at Evans Park. Games\, prizes\, food &amp\; fun for children! Families and businesses are invited to set up a table or tent on the trail at Evans Park to hand out treats to local children in a safe and fun environment! Decorate your space and win a prize!&nbsp\;<br />\n<br />\nNo fee to set up a table\, but must be pre-registered.<br />\n<br />\nDownload form here:&nbsp\;<a href="https://millville.delaware.gov/event/trail-of-treats/">https://millville.delaware.gov/event/trail-of-treats/</a>
LOCATION:Evans Park 32517 Dukes Drive Millville\, DE 19967
UID:e.2126.27054
SEQUENCE:3
DTSTAMP:20260420T183429Z
URL:http://business.thequietresorts.com/events/details/millville-trail-of-treats-at-evans-park-27054
END:VEVENT

END:VCALENDAR
