BEGIN:VCALENDAR
VERSION:2.0
PRODID:-//ChamberMaster//Event Calendar 2.0//EN
METHOD:PUBLISH
X-PUBLISHED-TTL:P3D
REFRESH-INTERVAL:P3D
CALSCALE:GREGORIAN
BEGIN:VEVENT
DTSTART:20221030T190000Z
DTEND:20221030T210000Z
X-MICROSOFT-CDO-ALLDAYEVENT:FALSE
SUMMARY:Millville Trail of Treats
DESCRIPTION:Trick or Treat on the trail at Evans Park Sunday October 30\, 2022 from 3:00PM - 5:00PM. Families and businesses are invited to set up a table or tent on the trail at Evans Park to hand out treats to local children in a safe and fun environment. Decorate your space and win prizes for best decorated! There will be lots of kids games and prizes\, a pumpkin patch and pumpkin decorating! \n\n\n\nNo fee and no reservations needed to trick or treat or participate in kids games. No fees to reserve a space on the trail but please pre-register by October 24th.\n\n\n\nForms can be downloaded on our website: millville.delaware.gov or pick up at Millville Town Hall or Evans Park office weekdays 8:30AM - 4:30PM. For more information call 302-858-3638 or email: park@mvtown.com
X-ALT-DESC;FMTTYPE=text/html:Trick or Treat on the trail at Evans Park Sunday October 30\, 2022 from 3:00PM - 5:00PM. Families and businesses are invited to set up a table or tent on the trail at Evans Park to hand out treats to local children in a safe and fun environment. Decorate your space and win prizes for best decorated! There will be lots of kids games and prizes\, a pumpkin patch and pumpkin decorating!&nbsp\;<br />\n<br />\n<u><strong>No fee and no reservations needed to trick or treat or participate in kids games.</strong></u> No fees to reserve a space on the trail but please pre-register by October 24th.<br />\n<br />\nForms can be downloaded on our website: millville.delaware.gov or pick up at Millville Town Hall or Evans Park office weekdays 8:30AM - 4:30PM. For more information call 302-858-3638 or email: park@mvtown.com
LOCATION:Evans Park 32517 Dukes Drive Millville\, DE
UID:e.2126.24266
SEQUENCE:3
DTSTAMP:20260421T173644Z
URL:http://business.thequietresorts.com/events/details/millville-trail-of-treats-24266
END:VEVENT

END:VCALENDAR
