BEGIN:VCALENDAR
VERSION:2.0
PRODID:-//ChamberMaster//Event Calendar 2.0//EN
METHOD:PUBLISH
X-PUBLISHED-TTL:P3D
REFRESH-INTERVAL:P3D
CALSCALE:GREGORIAN
BEGIN:VEVENT
DTSTART:20230401T140000Z
DTEND:20230401T160000Z
X-MICROSOFT-CDO-ALLDAYEVENT:FALSE
SUMMARY:Millville Easter Celebration
DESCRIPTION:Welcome in the Spring season at the Town of Millville Easter Celebration\, Saturday April 1\, 2023 at Evans Park. This is a free event open to the public with lots of fun activities for children including an Easter Egg Hunt and photos with the Easter Bunny! Rain date is Sun April 2nd.
X-ALT-DESC;FMTTYPE=text/html:Welcome in the Spring season at the Town of Millville Easter Celebration\, Saturday April 1\, 2023 at Evans Park. This is a free event open to the public with lots of fun activities for children including an Easter Egg Hunt and photos with the Easter Bunny! Rain date is Sun April 2nd.&nbsp\;
LOCATION:Evans Park 32517 Dukes Drive\, Millville\, DE
UID:e.2126.25182
SEQUENCE:3
DTSTAMP:20260421T040321Z
URL:http://business.thequietresorts.com/events/details/millville-easter-celebration-25182
END:VEVENT

END:VCALENDAR
