BEGIN:VCALENDAR
VERSION:2.0
PRODID:-//ChamberMaster//Event Calendar 2.0//EN
METHOD:PUBLISH
X-PUBLISHED-TTL:P3D
REFRESH-INTERVAL:P3D
CALSCALE:GREGORIAN
BEGIN:VEVENT
DTSTART:20221208T173000Z
DTEND:20221208T190000Z
X-MICROSOFT-CDO-ALLDAYEVENT:FALSE
SUMMARY:Millville By The Sea Master Community Association - Ribbon Cutting
DESCRIPTION:Join Millville By The Sea Master Community Association for the Ribbon Cutting to commemorate the new road that connects their villages\, Summerwind Blvd. \n\n \n\nStop in and meet the Millville By The Sea team\, take a tour of our new model homes\, and enjoy refreshments provided by their builder\, DH Horton. . \n\n\n\nThe celebration starts at 12:30 and the actual Ribbon Cutting will take place at 1:00.  The ribbon cutting ceremony will end at 2:00pm.
X-ALT-DESC;FMTTYPE=text/html:<span style="color: rgb(37\, 32\, 26)\; font-family: Arial\; font-size: 15px\;">Join Millville By The Sea Master Community Association for the Ribbon Cutting to commemorate the new road that connects their villages\, Summerwind Blvd.&nbsp\;</span><br />\n&nbsp\;<br />\n<span style="color: rgb(37\, 32\, 26)\; font-family: Arial\; font-size: 15px\;">Stop in and meet the Millville By The Sea team\, take a tour of our new model homes\, and enjoy refreshments provided by their builder\, DH Horton. .&nbsp\;</span><br style="font-family: Arial\; box-sizing: content-box\; inset: auto\; clear: none\; color: rgb(37\, 32\, 26)\; content: normal\; direction: inherit\; display: inline\; empty-cells: show\; float: none\; font-variant-numeric: inherit\; font-variant-east-asian: inherit\; font-stretch: inherit\; font-size: 15px\; line-height: inherit\; margin: 0px\; max-height: none\; max-width: none\; min-height: initial\; min-width: initial\; opacity: 1\; outline-offset: 0px\; overflow: visible\; padding: 0px\; position: static\; resize: none\; table-layout: auto\; text-overflow: clip\; vertical-align: baseline\; visibility: inherit\; word-break: inherit\; overflow-wrap: inherit\; z-index: auto\; background-image: none\; background-position: initial\; background-size: initial\; background-repeat: initial\; background-attachment: initial\; background-origin: initial\; background-clip: initial\; border-width: initial\; border-style: none\; border-color: initial\; border-collapse: separate\; border-image: none 100% 1 0 / 1 / 0 stretch\; border-radius: 0px\; height: auto\; width: auto\;" />\n<br style="font-family: Arial\; box-sizing: content-box\; inset: auto\; clear: none\; color: rgb(37\, 32\, 26)\; content: normal\; direction: inherit\; display: inline\; empty-cells: show\; float: none\; font-variant-numeric: inherit\; font-variant-east-asian: inherit\; font-stretch: inherit\; font-size: 15px\; line-height: inherit\; margin: 0px\; max-height: none\; max-width: none\; min-height: initial\; min-width: initial\; opacity: 1\; outline-offset: 0px\; overflow: visible\; padding: 0px\; position: static\; resize: none\; table-layout: auto\; text-overflow: clip\; vertical-align: baseline\; visibility: inherit\; word-break: inherit\; overflow-wrap: inherit\; z-index: auto\; background-image: none\; background-position: initial\; background-size: initial\; background-repeat: initial\; background-attachment: initial\; background-origin: initial\; background-clip: initial\; border-width: initial\; border-style: none\; border-color: initial\; border-collapse: separate\; border-image: none 100% 1 0 / 1 / 0 stretch\; border-radius: 0px\; height: auto\; width: auto\;" />\n<span style="color: rgb(37\, 32\, 26)\; font-family: Arial\; font-size: 15px\;">The celebration starts at 12:30 and the actual Ribbon Cutting will take place at 1:00.&nbsp\; The ribbon cutting ceremony will end at 2:00pm.</span>
LOCATION:Millville By the Sea Master Community Association 30794 Endless Summer Dr. Millville\, DE 19967
UID:e.2126.24870
SEQUENCE:3
DTSTAMP:20260421T125211Z
URL:http://business.thequietresorts.com/events/details/millville-by-the-sea-master-community-association-ribbon-cutting-24870
END:VEVENT

END:VCALENDAR
