BEGIN:VCALENDAR
VERSION:2.0
PRODID:-//ChamberMaster//Event Calendar 2.0//EN
METHOD:PUBLISH
X-PUBLISHED-TTL:P3D
REFRESH-INTERVAL:P3D
CALSCALE:GREGORIAN
BEGIN:VEVENT
DTSTART:20230308T150000Z
DTEND:20230308T160000Z
X-MICROSOFT-CDO-ALLDAYEVENT:FALSE
SUMMARY:Millville Business Forum
DESCRIPTION:The Bethany-Fenwick Area Chamber invites Millville businesses to attend a morning coffee hour hosted by Lord's Landscaping on Wednesday\, March 8th.  If you cannot attend\, you are welcome to send a business representive in your place\, as we will discuss spring initiatives and begin to look forward to fall programming.
X-ALT-DESC;FMTTYPE=text/html:The Bethany-Fenwick Area Chamber invites Millville businesses to attend a morning coffee hour hosted by Lord&#39\;s Landscaping on Wednesday\, March 8th.&nbsp\; If you cannot attend\, you are welcome to send a business representive in your place\, as we will discuss spring initiatives and begin to look forward to fall programming.
LOCATION:Lord's Landscaping 35577 Atlantic Ave. Millville\, DE 19967
UID:e.2126.25214
SEQUENCE:3
DTSTAMP:20260421T060106Z
URL:http://business.thequietresorts.com/events/details/millville-business-forum-25214
END:VEVENT

END:VCALENDAR
