BEGIN:VCALENDAR
VERSION:2.0
PRODID:-//ChamberMaster//Event Calendar 2.0//EN
METHOD:PUBLISH
X-PUBLISHED-TTL:P3D
REFRESH-INTERVAL:P3D
CALSCALE:GREGORIAN
BEGIN:VEVENT
DTSTART:20220521T153000Z
DTEND:20220521T180000Z
X-MICROSOFT-CDO-ALLDAYEVENT:FALSE
SUMMARY:Millville Boardwalk Grand Re-opening & Ribbon Cutting
DESCRIPTION:Join the Millville Boardwalk for a Ribbon Cutting Ceremony celebrating their brand new expansion including new seating areas\, live entertainment stage\, snack bar\, and vendor kiosk. The celebration starts at 11:30am and the Ribbon will be cut at 12:oopm.\n\n\n\nThe Millville Boardwalk\, your Delaware beach entertainment destination for all ages\, is pleased to announce its 2022 expansion\, rebranding and #AlwaysEndless lineup of events. Owners expanded the boardwalk footprint by 10\,000 square feet\, added seating areas\, a new live entertainment stage\, Horseshoe Hut snack bar stocked with specialty treats from First State Charcuterie (firststatecharcuterie.com) and vendor kiosks.These new additions and improvements join the already established Agape Creamery\, Lighthouse Beach Mini Golf\, and Captain's Quarters Arcade operating at the venue.
X-ALT-DESC;FMTTYPE=text/html:<span style="font-family:arial\;">Join the Millville Boardwalk for a Ribbon Cutting Ceremony celebrating their brand new expansion including new seating areas\, live entertainment stage\, snack bar\, and vendor kiosk. The celebration starts at 11:30am and the Ribbon will be cut at 12:oopm.</span><br />\n<br />\n<span style="font-family:arial\;"><span style="color:black\;">The Millville Boardwalk\, your Delaware beach entertainment destination for all ages\, is pleased to announce its 2022 expansion\, rebranding and #AlwaysEndless lineup of events. Owners expanded the boardwalk footprint by 10\,000 square feet\, added seating areas\, a new live entertainment stage\, Horseshoe Hut snack bar stocked with specialty treats from First State Charcuterie (</span><em><u><span style="color:black\;"><span style="font-size:10.0pt\;">firststatecharcuterie.com</span></span></u></em><em><span style="color:black\;"><span style="font-size:10.0pt\;">) </span></span></em><span style="color:black\;">and vendor kiosks.These new additions and improvements join the already established Agape Creamery\, Lighthouse Beach Mini Golf\, and Captain&rsquo\;s Quarters Arcade operating at the venue.</span></span><br />\n<br />\n&nbsp\;
LOCATION:Millville Boardwalk 117 Atlantic Ave.\, Ocean View
UID:e.2126.23636
SEQUENCE:3
DTSTAMP:20260422T001201Z
URL:http://business.thequietresorts.com/events/details/millville-boardwalk-grand-re-opening-ribbon-cutting-23636
END:VEVENT

END:VCALENDAR
