BEGIN:VCALENDAR
VERSION:2.0
PRODID:-//ChamberMaster//Event Calendar 2.0//EN
METHOD:PUBLISH
X-PUBLISHED-TTL:P3D
REFRESH-INTERVAL:P3D
CALSCALE:GREGORIAN
BEGIN:VEVENT
DTSTART;VALUE=DATE:20231106
DTEND;VALUE=DATE:20231107
TRANSP:TRANSPARENT
X-MICROSOFT-CDO-ALLDAYEVENT:TRUE
SUMMARY:Military Veterans Charity Golf Tournament at Ocean City Golf Club
DESCRIPTION:Helping our veterans and our neighbors\, yesterday\, today and tomorrow by benefitting Semper Fi & America's Fund Believe in Tomorrow Foundation. Hosted by American Legion Post 166 Leathernecks.\n\n\n\nPlay 1 of 2 beautiful courses: Newport Bay Course or Seaside Course.\n\n\n\nIncludes 18 holes of golf\, continental breakfast/lunch\, and awards ceremony.\n\n\n\nHole in one wins a new car\, prizes for straightest drive and closest to the pin.\n\n\n\nShotgun start at 9am.\n\n\n\nRegistration is $500 per team of 4 or $125 per golfer. Sign up as an individual\, we will pair you with a teams. Includes 18 holes of golf\, continental breakfast/lunch\, and awards ceremony.\n\n\n\n*Sponsorship opportunities available.
X-ALT-DESC;FMTTYPE=text/html:Helping our veterans and our neighbors\, yesterday\, today and tomorrow by benefitting Semper Fi &amp\; America&#39\;s Fund Believe in Tomorrow Foundation. Hosted by American Legion Post 166 Leathernecks.<br />\n<br />\nPlay 1 of 2 beautiful courses: Newport Bay Course or Seaside Course.<br />\n<br />\nIncludes 18 holes of golf\, continental breakfast/lunch\, and awards ceremony.<br />\n<br />\nHole in one wins a new car\, prizes for straightest drive and closest to the pin.<br />\n<br />\nShotgun start at 9am.<br />\n<br />\n<a href="https://chambermaster.blob.core.windows.net/userfiles/UserFiles/chambers/2126/File/MarineGolfBrochurefinal.pdf">Registration</a> is $500 per team of 4 or $125 per golfer. Sign up as an individual\, we will pair you with a teams.&nbsp\;Includes 18 holes of golf\, continental breakfast/lunch\, and awards ceremony.<br />\n<br />\n<em>*Sponsorship opportunities available.</em>
LOCATION:Ocean City Golf Club 11401 Country Club Dr. Berlin\, MD 21811
UID:e.2126.26932
SEQUENCE:3
DTSTAMP:20260420T171451Z
URL:http://business.thequietresorts.com/events/details/military-veterans-charity-golf-tournament-at-ocean-city-golf-club-26932
END:VEVENT

END:VCALENDAR
