BEGIN:VCALENDAR
VERSION:2.0
PRODID:-//ChamberMaster//Event Calendar 2.0//EN
METHOD:PUBLISH
X-PUBLISHED-TTL:P3D
REFRESH-INTERVAL:P3D
CALSCALE:GREGORIAN
BEGIN:VEVENT
DTSTART:20240627T221500Z
DTEND:20240628T001500Z
X-MICROSOFT-CDO-ALLDAYEVENT:FALSE
SUMMARY:Middlesex Women's Battle on the Beach Lifeguard Competition
DESCRIPTION:Join us for the Middlesex Women's Battle on the Beach Life Guard Competition!\n\n\n\nThere will be 7 individual events: Iron Women (each competitor will complete a distance paddle\, a distance run\, and a distance swim\, in that order)\, a Distance Swim\, 1 Mile Run\, Distance Paddle\, Run Swim Run\, Flags\, and Tug of War (4 competitors per team).\n\nFeel free to come out to support our women lifeguards! We look forward to seeing you there!
X-ALT-DESC;FMTTYPE=text/html:Join us for the Middlesex Women&#39\;s Battle on the Beach Life Guard Competition!<br />\n<br />\nThere will be 7 individual events: Iron Women (each competitor will complete a distance paddle\, a distance run\, and a distance swim\, in that order)\, a Distance Swim\, 1 Mile Run\, Distance Paddle\, Run Swim Run\, Flags\, and Tug of War (4 competitors per team).<br />\nFeel free to come out to support our women lifeguards! We look forward to seeing you there!
LOCATION:Middlesex Beach
UID:e.2126.30367
SEQUENCE:3
DTSTAMP:20260420T092306Z
URL:http://business.thequietresorts.com/events/details/middlesex-women-s-battle-on-the-beach-lifeguard-competition-30367
END:VEVENT

END:VCALENDAR
