BEGIN:VCALENDAR
VERSION:2.0
PRODID:-//ChamberMaster//Event Calendar 2.0//EN
METHOD:PUBLISH
X-PUBLISHED-TTL:P3D
REFRESH-INTERVAL:P3D
CALSCALE:GREGORIAN
BEGIN:VEVENT
DTSTART;VALUE=DATE:20210605
DTEND;VALUE=DATE:20210607
TRANSP:TRANSPARENT
X-MICROSOFT-CDO-ALLDAYEVENT:TRUE
SUMMARY:Mid-Atlantic Sea Glass & coastal Arts Festival
DESCRIPTION:The Mid-Atlantic Sea Glass and Coastal Arts Festival will feature over forty-five sea glass and coastal artists in various mediums such as sea glass\, wood\, photography\, painting\, ceramics\, metal\, and sculpture. Vendors come from up and down the East Coast. Plans for 2021: Chat with an Expert Sea Glass Exhibitions Children's Corner: Just Getting Started Collections Food Vendors Music Enjoy festive music and delicious food all weekend. Learn the history of sea glass and bring your glass shards and bottles\, as specialists will be available to identify your treasurers on-site.
X-ALT-DESC;FMTTYPE=text/html:<span style="font-size:14px\;"><span style="font-family:arial\;">The Mid-Atlantic Sea Glass and Coastal Arts Festival will feature over forty-five sea glass and coastal artists in various mediums such as sea glass\, wood\, photography\, painting\, ceramics\, metal\, and sculpture. Vendors come from up and down the East Coast. Plans for 2021: Chat with an Expert Sea Glass Exhibitions Children&#39\;s Corner: Just Getting Started Collections Food Vendors Music Enjoy festive music and delicious food all weekend. Learn the history of sea glass and bring your glass shards and bottles\, as specialists will be available to identify your treasurers on-site.</span></span>
LOCATION:Lewes Historical Society 110 Shipcarpenter Street Lewes\, DE 19958
UID:e.2126.22379
SEQUENCE:3
DTSTAMP:20260424T195035Z
URL:http://business.thequietresorts.com/events/details/mid-atlantic-sea-glass-coastal-arts-festival-22379
END:VEVENT

END:VCALENDAR
