BEGIN:VCALENDAR
VERSION:2.0
PRODID:-//ChamberMaster//Event Calendar 2.0//EN
METHOD:PUBLISH
X-PUBLISHED-TTL:P3D
REFRESH-INTERVAL:P3D
CALSCALE:GREGORIAN
BEGIN:VEVENT
DTSTART:20231019T220000Z
DTEND:20231020T000000Z
X-MICROSOFT-CDO-ALLDAYEVENT:FALSE
SUMMARY:Mermaid Wine Glass Paint Night at Sorella Amore
DESCRIPTION:Join us at Sorella Amore for a mermaid wine glass paint night.  Your ticket includes all the supplies needed to make this mermaid wine glass + personal charcuterie cup from First State Charcuterie + a glass of wine + 10% of the proceeds will be donated to the Delaware Breast Cancer Coalition.   This is a night you will not want to miss.
X-ALT-DESC;FMTTYPE=text/html:Join us at Sorella Amore for a mermaid wine glass paint night.&nbsp\; Your ticket includes all the supplies needed to make this mermaid wine glass + personal charcuterie cup from First State Charcuterie + a glass of wine + 10% of the proceeds will be donated to the Delaware Breast Cancer Coalition.&nbsp\; &nbsp\;This is a night you will not want to miss.
LOCATION:Sorella Amore 32630 Cedar Drive Millville\, DE 19967
UID:e.2126.27008
SEQUENCE:3
DTSTAMP:20260420T183250Z
URL:http://business.thequietresorts.com/events/details/mermaid-wine-glass-paint-night-at-sorella-amore-27008
END:VEVENT

END:VCALENDAR
