BEGIN:VCALENDAR
VERSION:2.0
PRODID:-//ChamberMaster//Event Calendar 2.0//EN
METHOD:PUBLISH
X-PUBLISHED-TTL:P3D
REFRESH-INTERVAL:P3D
CALSCALE:GREGORIAN
BEGIN:VEVENT
DTSTART:20230423T150000Z
DTEND:20230423T170000Z
X-MICROSOFT-CDO-ALLDAYEVENT:FALSE
SUMMARY:Mermaid Tasha Book Signing
DESCRIPTION:Meet Mermaid Tasha and get your own autographed copy of one of her children's books: Mermaid Tasha's Mission or Glitter is Not the Winner! \n\n\n\nMermaid Tasha's Mission: Mermaid Tasha's Mission describes how Mermaid Tasha decided to leave her home waters near Assateague Island\, Maryland to explore the human world. Learn about Assateague Island and some major environmental threats that have affected the island in this fun\, interactive story book. \n\nAfter learning about things like pollution\, red tides\, and eddies\, take the Mermaid Pledge to become an honorary mermaid yourself!\n\n\n\nGlitter is Not the Winner: Glitter is a popular product due to the sparkle and shine it gives! But glitter is not very environmentally friendly. In this colorful children's book\, explore why glitter isn't the best choice and experiment with making your own eco-friendly alternative instead!\n\n\n\nAbout Mermaid Tasha: Tasha has been performing in various capacities since the age of 4 and is one of the original Circus Siren Atlantians. She holds several certifications including SCUBA diving (Divemaster)\, freediving\, lifeguarding\, and yes\, a mermaid certification (she's even a PADI and NAUI Mermaid Instructor!). She has taken her mermaiding internationally\, swimming with sharks and rays in Tahiti\, sea lions in Mexico\, and tropical fish in the Caribbean. Tasha strives to educate and bring her passion for marine life to the Delmarva Peninsula\, where she conducts several Mermaid Camps a year teaching others how to be stewards for the environment and true mermaids. Tasha has also partnered with Oceana Mid-Atlantic\, Delaware Sea Grant\, Assateague Coastal Trust\, and Chesapeake Bay Environmental Center for events and has been featured on QAC TV and Delmarva Life for her environmental work as a mermaid. Check out her fun\, interactive mermaid children's books to learn more about the environment and what you can do to protect it!
X-ALT-DESC;FMTTYPE=text/html:Meet Mermaid Tasha and get your own autographed copy of one of her children&#39\;s books: Mermaid Tasha&#39\;s Mission or Glitter is Not the Winner!&nbsp\;<br />\n<br />\nMermaid Tasha&#39\;s Mission:&nbsp\;Mermaid Tasha&#39\;s Mission describes how Mermaid Tasha decided to leave her home waters near Assateague Island\, Maryland to explore the human world. Learn about Assateague Island and some major environmental threats that have affected the island in this fun\, interactive story book.&nbsp\;<br />\nAfter learning about things like pollution\, red tides\, and eddies\, take the Mermaid Pledge to become an honorary mermaid yourself!<br />\n<br />\nGlitter is Not the Winner:&nbsp\;Glitter is a popular product due to the sparkle and shine it gives! But glitter is not very environmentally friendly. In this colorful children&#39\;s book\, explore why glitter isn&#39\;t the best choice and experiment with making your own eco-friendly alternative instead!<br />\n<br />\nAbout Mermaid Tasha:&nbsp\;Tasha has been performing in various capacities since the age of 4 and is one of the original Circus Siren Atlantians. She holds several certifications including SCUBA diving (Divemaster)\, freediving\, lifeguarding\, and yes\, a mermaid certification (she&rsquo\;s even a PADI and NAUI Mermaid Instructor!). She has taken her mermaiding internationally\, swimming with sharks and rays in Tahiti\, sea lions in Mexico\, and tropical fish in the Caribbean. Tasha strives to educate and bring her passion for marine life to the Delmarva Peninsula\, where she conducts several Mermaid Camps a year teaching others how to be stewards for the environment and true mermaids. Tasha has also partnered with Oceana Mid-Atlantic\, Delaware Sea Grant\, Assateague Coastal Trust\, and Chesapeake Bay Environmental Center for events and has been featured on QAC TV and Delmarva Life for her environmental work as a mermaid. Check out her fun\, interactive mermaid children&#39\;s books to learn more about the environment and what you can do to protect it!
LOCATION:Browseabout Books 133 Rehoboth Ave Rehoboth Beach\, DE 19971
UID:e.2126.25323
SEQUENCE:3
DTSTAMP:20260421T040705Z
URL:http://business.thequietresorts.com/events/details/mermaid-tasha-book-signing-25323
END:VEVENT

END:VCALENDAR
